BEGIN:VCALENDAR
VERSION:2.0
PRODID:-//Szent István Bazilika - Budapest - ECPv6.11.2.1//NONSGML v1.0//EN
CALSCALE:GREGORIAN
METHOD:PUBLISH
X-ORIGINAL-URL:https://bazilikabudapest.hu/en
X-WR-CALDESC:Events for Szent István Bazilika - Budapest
REFRESH-INTERVAL;VALUE=DURATION:PT1H
X-Robots-Tag:noindex
X-PUBLISHED-TTL:PT1H
BEGIN:VTIMEZONE
TZID:Europe/Budapest
BEGIN:DAYLIGHT
TZOFFSETFROM:+0100
TZOFFSETTO:+0200
TZNAME:CEST
DTSTART:20280326T010000
END:DAYLIGHT
BEGIN:STANDARD
TZOFFSETFROM:+0200
TZOFFSETTO:+0100
TZNAME:CET
DTSTART:20281029T010000
END:STANDARD
END:VTIMEZONE
BEGIN:VEVENT
DTSTART;TZID=Europe/Budapest:20280924T130000
DTEND;TZID=Europe/Budapest:20280924T174500
DTSTAMP:20260421T214719
CREATED:20240521T155152Z
LAST-MODIFIED:20240521T155152Z
UID:10007919-1853413200-1853430300@bazilikabudapest.hu
SUMMARY:BAZILIKA IDEGENFORGALOM SZÁMÁRA LÁTOGATHATÓ!
DESCRIPTION:
URL:https://bazilikabudapest.hu/en/esemenyek/bazilika-idegenforgalom-szamara-latogathato-3/2028-09-24/
END:VEVENT
BEGIN:VEVENT
DTSTART;TZID=Europe/Budapest:20280928T200000
DTEND;TZID=Europe/Budapest:20280929T050000
DTSTAMP:20260421T214719
CREATED:20240521T142054Z
LAST-MODIFIED:20240521T142054Z
UID:10006093-1853784000-1853816400@bazilikabudapest.hu
SUMMARY:VIRRASZTÁS MAGYARORSZÁGÉRT (MÁRIA KÁPOLNÁBAN)
DESCRIPTION:
URL:https://bazilikabudapest.hu/en/esemenyek/virrasztas-magyarorszagert-maria-kapolnaban/2028-09-28/
END:VEVENT
BEGIN:VEVENT
DTSTART;TZID=Europe/Budapest:20280930T180000
DTEND;TZID=Europe/Budapest:20280930T183000
DTSTAMP:20260421T214719
CREATED:20240521T135245Z
LAST-MODIFIED:20240521T135245Z
UID:10004524-1853949600-1853951400@bazilikabudapest.hu
SUMMARY:SZENTMISE - VASÁRNAP ELŐESTI (BAZILIKA)
DESCRIPTION:
URL:https://bazilikabudapest.hu/en/esemenyek/szentmise-vasarnap-eloesti-bazilika/2028-09-30/
END:VEVENT
BEGIN:VEVENT
DTSTART;TZID=Europe/Budapest:20281001T083000
DTEND;TZID=Europe/Budapest:20281001T090000
DTSTAMP:20260421T214719
CREATED:20240521T154641Z
LAST-MODIFIED:20240521T154641Z
UID:10006876-1854001800-1854003600@bazilikabudapest.hu
SUMMARY:SZENTMISE (BAZILIKÁBAN)
DESCRIPTION:
URL:https://bazilikabudapest.hu/en/esemenyek/szentmise-bazilikaban-2/2028-10-01/
END:VEVENT
BEGIN:VEVENT
DTSTART;TZID=Europe/Budapest:20281001T100000
DTEND;TZID=Europe/Budapest:20281001T110000
DTSTAMP:20260421T214719
CREATED:20240521T154755Z
LAST-MODIFIED:20240521T154755Z
UID:10007137-1854007200-1854010800@bazilikabudapest.hu
SUMMARY:SZENTMISE (NAGYMISE)
DESCRIPTION:
URL:https://bazilikabudapest.hu/en/esemenyek/szentmise-nagymise/2028-10-01/
END:VEVENT
BEGIN:VEVENT
DTSTART;TZID=Europe/Budapest:20281001T110000
DTEND;TZID=Europe/Budapest:20281001T120000
DTSTAMP:20260421T214719
CREATED:20240521T154843Z
LAST-MODIFIED:20240521T154843Z
UID:10007398-1854010800-1854014400@bazilikabudapest.hu
SUMMARY:KERESZTELŐK (BAZILIKÁBAN)
DESCRIPTION:
URL:https://bazilikabudapest.hu/en/esemenyek/keresztelok-bazilikaban/2028-10-01/
END:VEVENT
BEGIN:VEVENT
DTSTART;TZID=Europe/Budapest:20281001T120000
DTEND;TZID=Europe/Budapest:20281001T130000
DTSTAMP:20260421T214719
CREATED:20240521T155018Z
LAST-MODIFIED:20240521T155018Z
UID:10007659-1854014400-1854018000@bazilikabudapest.hu
SUMMARY:SZENTMISE (BAZILIKÁBAN)
DESCRIPTION:
URL:https://bazilikabudapest.hu/en/esemenyek/szentmise-bazilikaban-3/2028-10-01/
END:VEVENT
BEGIN:VEVENT
DTSTART;TZID=Europe/Budapest:20281001T130000
DTEND;TZID=Europe/Budapest:20281001T174500
DTSTAMP:20260421T214719
CREATED:20240521T155152Z
LAST-MODIFIED:20240521T155152Z
UID:10007920-1854018000-1854035100@bazilikabudapest.hu
SUMMARY:BAZILIKA IDEGENFORGALOM SZÁMÁRA LÁTOGATHATÓ!
DESCRIPTION:
URL:https://bazilikabudapest.hu/en/esemenyek/bazilika-idegenforgalom-szamara-latogathato-3/2028-10-01/
END:VEVENT
BEGIN:VEVENT
DTSTART;TZID=Europe/Budapest:20281005T200000
DTEND;TZID=Europe/Budapest:20281006T050000
DTSTAMP:20260421T214719
CREATED:20240521T142054Z
LAST-MODIFIED:20240521T142054Z
UID:10006094-1854388800-1854421200@bazilikabudapest.hu
SUMMARY:VIRRASZTÁS MAGYARORSZÁGÉRT (MÁRIA KÁPOLNÁBAN)
DESCRIPTION:
URL:https://bazilikabudapest.hu/en/esemenyek/virrasztas-magyarorszagert-maria-kapolnaban/2028-10-05/
END:VEVENT
BEGIN:VEVENT
DTSTART;TZID=Europe/Budapest:20281007T180000
DTEND;TZID=Europe/Budapest:20281007T183000
DTSTAMP:20260421T214719
CREATED:20240521T135245Z
LAST-MODIFIED:20240521T135245Z
UID:10004525-1854554400-1854556200@bazilikabudapest.hu
SUMMARY:SZENTMISE - VASÁRNAP ELŐESTI (BAZILIKA)
DESCRIPTION:
URL:https://bazilikabudapest.hu/en/esemenyek/szentmise-vasarnap-eloesti-bazilika/2028-10-07/
END:VEVENT
BEGIN:VEVENT
DTSTART;TZID=Europe/Budapest:20281008T083000
DTEND;TZID=Europe/Budapest:20281008T090000
DTSTAMP:20260421T214719
CREATED:20240521T154641Z
LAST-MODIFIED:20240521T154641Z
UID:10006877-1854606600-1854608400@bazilikabudapest.hu
SUMMARY:SZENTMISE (BAZILIKÁBAN)
DESCRIPTION:
URL:https://bazilikabudapest.hu/en/esemenyek/szentmise-bazilikaban-2/2028-10-08/
END:VEVENT
BEGIN:VEVENT
DTSTART;TZID=Europe/Budapest:20281008T100000
DTEND;TZID=Europe/Budapest:20281008T110000
DTSTAMP:20260421T214719
CREATED:20240521T154755Z
LAST-MODIFIED:20240521T154755Z
UID:10007138-1854612000-1854615600@bazilikabudapest.hu
SUMMARY:SZENTMISE (NAGYMISE)
DESCRIPTION:
URL:https://bazilikabudapest.hu/en/esemenyek/szentmise-nagymise/2028-10-08/
END:VEVENT
BEGIN:VEVENT
DTSTART;TZID=Europe/Budapest:20281008T110000
DTEND;TZID=Europe/Budapest:20281008T120000
DTSTAMP:20260421T214719
CREATED:20240521T154843Z
LAST-MODIFIED:20240521T154843Z
UID:10007399-1854615600-1854619200@bazilikabudapest.hu
SUMMARY:KERESZTELŐK (BAZILIKÁBAN)
DESCRIPTION:
URL:https://bazilikabudapest.hu/en/esemenyek/keresztelok-bazilikaban/2028-10-08/
END:VEVENT
BEGIN:VEVENT
DTSTART;TZID=Europe/Budapest:20281008T120000
DTEND;TZID=Europe/Budapest:20281008T130000
DTSTAMP:20260421T214719
CREATED:20240521T155018Z
LAST-MODIFIED:20240521T155018Z
UID:10007660-1854619200-1854622800@bazilikabudapest.hu
SUMMARY:SZENTMISE (BAZILIKÁBAN)
DESCRIPTION:
URL:https://bazilikabudapest.hu/en/esemenyek/szentmise-bazilikaban-3/2028-10-08/
END:VEVENT
BEGIN:VEVENT
DTSTART;TZID=Europe/Budapest:20281008T130000
DTEND;TZID=Europe/Budapest:20281008T174500
DTSTAMP:20260421T214719
CREATED:20240521T155152Z
LAST-MODIFIED:20240521T155152Z
UID:10007921-1854622800-1854639900@bazilikabudapest.hu
SUMMARY:BAZILIKA IDEGENFORGALOM SZÁMÁRA LÁTOGATHATÓ!
DESCRIPTION:
URL:https://bazilikabudapest.hu/en/esemenyek/bazilika-idegenforgalom-szamara-latogathato-3/2028-10-08/
END:VEVENT
BEGIN:VEVENT
DTSTART;TZID=Europe/Budapest:20281012T200000
DTEND;TZID=Europe/Budapest:20281013T050000
DTSTAMP:20260421T214719
CREATED:20240521T142054Z
LAST-MODIFIED:20240521T142054Z
UID:10006095-1854993600-1855026000@bazilikabudapest.hu
SUMMARY:VIRRASZTÁS MAGYARORSZÁGÉRT (MÁRIA KÁPOLNÁBAN)
DESCRIPTION:
URL:https://bazilikabudapest.hu/en/esemenyek/virrasztas-magyarorszagert-maria-kapolnaban/2028-10-12/
END:VEVENT
BEGIN:VEVENT
DTSTART;TZID=Europe/Budapest:20281014T180000
DTEND;TZID=Europe/Budapest:20281014T183000
DTSTAMP:20260421T214719
CREATED:20240521T135245Z
LAST-MODIFIED:20240521T135245Z
UID:10004526-1855159200-1855161000@bazilikabudapest.hu
SUMMARY:SZENTMISE - VASÁRNAP ELŐESTI (BAZILIKA)
DESCRIPTION:
URL:https://bazilikabudapest.hu/en/esemenyek/szentmise-vasarnap-eloesti-bazilika/2028-10-14/
END:VEVENT
BEGIN:VEVENT
DTSTART;TZID=Europe/Budapest:20281015T083000
DTEND;TZID=Europe/Budapest:20281015T090000
DTSTAMP:20260421T214719
CREATED:20240521T154641Z
LAST-MODIFIED:20240521T154641Z
UID:10006878-1855211400-1855213200@bazilikabudapest.hu
SUMMARY:SZENTMISE (BAZILIKÁBAN)
DESCRIPTION:
URL:https://bazilikabudapest.hu/en/esemenyek/szentmise-bazilikaban-2/2028-10-15/
END:VEVENT
BEGIN:VEVENT
DTSTART;TZID=Europe/Budapest:20281015T100000
DTEND;TZID=Europe/Budapest:20281015T110000
DTSTAMP:20260421T214719
CREATED:20240521T154755Z
LAST-MODIFIED:20240521T154755Z
UID:10007139-1855216800-1855220400@bazilikabudapest.hu
SUMMARY:SZENTMISE (NAGYMISE)
DESCRIPTION:
URL:https://bazilikabudapest.hu/en/esemenyek/szentmise-nagymise/2028-10-15/
END:VEVENT
BEGIN:VEVENT
DTSTART;TZID=Europe/Budapest:20281015T110000
DTEND;TZID=Europe/Budapest:20281015T120000
DTSTAMP:20260421T214719
CREATED:20240521T154843Z
LAST-MODIFIED:20240521T154843Z
UID:10007400-1855220400-1855224000@bazilikabudapest.hu
SUMMARY:KERESZTELŐK (BAZILIKÁBAN)
DESCRIPTION:
URL:https://bazilikabudapest.hu/en/esemenyek/keresztelok-bazilikaban/2028-10-15/
END:VEVENT
BEGIN:VEVENT
DTSTART;TZID=Europe/Budapest:20281015T120000
DTEND;TZID=Europe/Budapest:20281015T130000
DTSTAMP:20260421T214719
CREATED:20240521T155018Z
LAST-MODIFIED:20240521T155018Z
UID:10007661-1855224000-1855227600@bazilikabudapest.hu
SUMMARY:SZENTMISE (BAZILIKÁBAN)
DESCRIPTION:
URL:https://bazilikabudapest.hu/en/esemenyek/szentmise-bazilikaban-3/2028-10-15/
END:VEVENT
BEGIN:VEVENT
DTSTART;TZID=Europe/Budapest:20281015T130000
DTEND;TZID=Europe/Budapest:20281015T174500
DTSTAMP:20260421T214719
CREATED:20240521T155152Z
LAST-MODIFIED:20240521T155152Z
UID:10007922-1855227600-1855244700@bazilikabudapest.hu
SUMMARY:BAZILIKA IDEGENFORGALOM SZÁMÁRA LÁTOGATHATÓ!
DESCRIPTION:
URL:https://bazilikabudapest.hu/en/esemenyek/bazilika-idegenforgalom-szamara-latogathato-3/2028-10-15/
END:VEVENT
BEGIN:VEVENT
DTSTART;TZID=Europe/Budapest:20281019T200000
DTEND;TZID=Europe/Budapest:20281020T050000
DTSTAMP:20260421T214719
CREATED:20240521T142054Z
LAST-MODIFIED:20240521T142054Z
UID:10006096-1855598400-1855630800@bazilikabudapest.hu
SUMMARY:VIRRASZTÁS MAGYARORSZÁGÉRT (MÁRIA KÁPOLNÁBAN)
DESCRIPTION:
URL:https://bazilikabudapest.hu/en/esemenyek/virrasztas-magyarorszagert-maria-kapolnaban/2028-10-19/
END:VEVENT
BEGIN:VEVENT
DTSTART;TZID=Europe/Budapest:20281021T180000
DTEND;TZID=Europe/Budapest:20281021T183000
DTSTAMP:20260421T214719
CREATED:20240521T135245Z
LAST-MODIFIED:20240521T135245Z
UID:10004527-1855764000-1855765800@bazilikabudapest.hu
SUMMARY:SZENTMISE - VASÁRNAP ELŐESTI (BAZILIKA)
DESCRIPTION:
URL:https://bazilikabudapest.hu/en/esemenyek/szentmise-vasarnap-eloesti-bazilika/2028-10-21/
END:VEVENT
BEGIN:VEVENT
DTSTART;TZID=Europe/Budapest:20281022T083000
DTEND;TZID=Europe/Budapest:20281022T090000
DTSTAMP:20260421T214719
CREATED:20240521T154641Z
LAST-MODIFIED:20240521T154641Z
UID:10006879-1855816200-1855818000@bazilikabudapest.hu
SUMMARY:SZENTMISE (BAZILIKÁBAN)
DESCRIPTION:
URL:https://bazilikabudapest.hu/en/esemenyek/szentmise-bazilikaban-2/2028-10-22/
END:VEVENT
BEGIN:VEVENT
DTSTART;TZID=Europe/Budapest:20281022T100000
DTEND;TZID=Europe/Budapest:20281022T110000
DTSTAMP:20260421T214719
CREATED:20240521T154755Z
LAST-MODIFIED:20240521T154755Z
UID:10007140-1855821600-1855825200@bazilikabudapest.hu
SUMMARY:SZENTMISE (NAGYMISE)
DESCRIPTION:
URL:https://bazilikabudapest.hu/en/esemenyek/szentmise-nagymise/2028-10-22/
END:VEVENT
BEGIN:VEVENT
DTSTART;TZID=Europe/Budapest:20281022T110000
DTEND;TZID=Europe/Budapest:20281022T120000
DTSTAMP:20260421T214719
CREATED:20240521T154843Z
LAST-MODIFIED:20240521T154843Z
UID:10007401-1855825200-1855828800@bazilikabudapest.hu
SUMMARY:KERESZTELŐK (BAZILIKÁBAN)
DESCRIPTION:
URL:https://bazilikabudapest.hu/en/esemenyek/keresztelok-bazilikaban/2028-10-22/
END:VEVENT
BEGIN:VEVENT
DTSTART;TZID=Europe/Budapest:20281022T120000
DTEND;TZID=Europe/Budapest:20281022T130000
DTSTAMP:20260421T214719
CREATED:20240521T155018Z
LAST-MODIFIED:20240521T155018Z
UID:10007662-1855828800-1855832400@bazilikabudapest.hu
SUMMARY:SZENTMISE (BAZILIKÁBAN)
DESCRIPTION:
URL:https://bazilikabudapest.hu/en/esemenyek/szentmise-bazilikaban-3/2028-10-22/
END:VEVENT
BEGIN:VEVENT
DTSTART;TZID=Europe/Budapest:20281022T130000
DTEND;TZID=Europe/Budapest:20281022T174500
DTSTAMP:20260421T214719
CREATED:20240521T155152Z
LAST-MODIFIED:20240521T155152Z
UID:10007923-1855832400-1855849500@bazilikabudapest.hu
SUMMARY:BAZILIKA IDEGENFORGALOM SZÁMÁRA LÁTOGATHATÓ!
DESCRIPTION:
URL:https://bazilikabudapest.hu/en/esemenyek/bazilika-idegenforgalom-szamara-latogathato-3/2028-10-22/
END:VEVENT
BEGIN:VEVENT
DTSTART;TZID=Europe/Budapest:20281026T200000
DTEND;TZID=Europe/Budapest:20281027T050000
DTSTAMP:20260421T214719
CREATED:20240521T142054Z
LAST-MODIFIED:20240521T142054Z
UID:10006097-1856203200-1856235600@bazilikabudapest.hu
SUMMARY:VIRRASZTÁS MAGYARORSZÁGÉRT (MÁRIA KÁPOLNÁBAN)
DESCRIPTION:
URL:https://bazilikabudapest.hu/en/esemenyek/virrasztas-magyarorszagert-maria-kapolnaban/2028-10-26/
END:VEVENT
END:VCALENDAR