BEGIN:VCALENDAR
VERSION:2.0
PRODID:-//Szent István Bazilika - Budapest - ECPv6.11.2.1//NONSGML v1.0//EN
CALSCALE:GREGORIAN
METHOD:PUBLISH
X-WR-CALNAME:Szent István Bazilika - Budapest
X-ORIGINAL-URL:https://bazilikabudapest.hu/en
X-WR-CALDESC:Events for Szent István Bazilika - Budapest
REFRESH-INTERVAL;VALUE=DURATION:PT1H
X-Robots-Tag:noindex
X-PUBLISHED-TTL:PT1H
BEGIN:VTIMEZONE
TZID:Europe/Budapest
BEGIN:DAYLIGHT
TZOFFSETFROM:+0100
TZOFFSETTO:+0200
TZNAME:CEST
DTSTART:20280326T010000
END:DAYLIGHT
BEGIN:STANDARD
TZOFFSETFROM:+0200
TZOFFSETTO:+0100
TZNAME:CET
DTSTART:20281029T010000
END:STANDARD
BEGIN:DAYLIGHT
TZOFFSETFROM:+0100
TZOFFSETTO:+0200
TZNAME:CEST
DTSTART:20290325T010000
END:DAYLIGHT
BEGIN:STANDARD
TZOFFSETFROM:+0200
TZOFFSETTO:+0100
TZNAME:CET
DTSTART:20291028T010000
END:STANDARD
END:VTIMEZONE
BEGIN:VEVENT
DTSTART;TZID=Europe/Budapest:20281217T130000
DTEND;TZID=Europe/Budapest:20281217T174500
DTSTAMP:20260422T065306
CREATED:20240521T155152Z
LAST-MODIFIED:20240521T155152Z
UID:10007931-1860670800-1860687900@bazilikabudapest.hu
SUMMARY:BAZILIKA IDEGENFORGALOM SZÁMÁRA LÁTOGATHATÓ!
DESCRIPTION:
URL:https://bazilikabudapest.hu/en/esemenyek/bazilika-idegenforgalom-szamara-latogathato-3/2028-12-17/
END:VEVENT
BEGIN:VEVENT
DTSTART;TZID=Europe/Budapest:20281221T200000
DTEND;TZID=Europe/Budapest:20281222T050000
DTSTAMP:20260422T065306
CREATED:20240521T142054Z
LAST-MODIFIED:20240521T142054Z
UID:10006105-1861041600-1861074000@bazilikabudapest.hu
SUMMARY:VIRRASZTÁS MAGYARORSZÁGÉRT (MÁRIA KÁPOLNÁBAN)
DESCRIPTION:
URL:https://bazilikabudapest.hu/en/esemenyek/virrasztas-magyarorszagert-maria-kapolnaban/2028-12-21/
END:VEVENT
BEGIN:VEVENT
DTSTART;TZID=Europe/Budapest:20281223T180000
DTEND;TZID=Europe/Budapest:20281223T183000
DTSTAMP:20260422T065306
CREATED:20240521T135245Z
LAST-MODIFIED:20240521T135245Z
UID:10004536-1861207200-1861209000@bazilikabudapest.hu
SUMMARY:SZENTMISE - VASÁRNAP ELŐESTI (BAZILIKA)
DESCRIPTION:
URL:https://bazilikabudapest.hu/en/esemenyek/szentmise-vasarnap-eloesti-bazilika/2028-12-23/
END:VEVENT
BEGIN:VEVENT
DTSTART;TZID=Europe/Budapest:20281224T083000
DTEND;TZID=Europe/Budapest:20281224T090000
DTSTAMP:20260422T065306
CREATED:20240521T154641Z
LAST-MODIFIED:20240521T154641Z
UID:10006888-1861259400-1861261200@bazilikabudapest.hu
SUMMARY:SZENTMISE (BAZILIKÁBAN)
DESCRIPTION:
URL:https://bazilikabudapest.hu/en/esemenyek/szentmise-bazilikaban-2/2028-12-24/
END:VEVENT
BEGIN:VEVENT
DTSTART;TZID=Europe/Budapest:20281224T100000
DTEND;TZID=Europe/Budapest:20281224T110000
DTSTAMP:20260422T065306
CREATED:20240521T154755Z
LAST-MODIFIED:20240521T154755Z
UID:10007149-1861264800-1861268400@bazilikabudapest.hu
SUMMARY:SZENTMISE (NAGYMISE)
DESCRIPTION:
URL:https://bazilikabudapest.hu/en/esemenyek/szentmise-nagymise/2028-12-24/
END:VEVENT
BEGIN:VEVENT
DTSTART;TZID=Europe/Budapest:20281224T110000
DTEND;TZID=Europe/Budapest:20281224T120000
DTSTAMP:20260422T065306
CREATED:20240521T154843Z
LAST-MODIFIED:20240521T154843Z
UID:10007410-1861268400-1861272000@bazilikabudapest.hu
SUMMARY:KERESZTELŐK (BAZILIKÁBAN)
DESCRIPTION:
URL:https://bazilikabudapest.hu/en/esemenyek/keresztelok-bazilikaban/2028-12-24/
END:VEVENT
BEGIN:VEVENT
DTSTART;TZID=Europe/Budapest:20281224T120000
DTEND;TZID=Europe/Budapest:20281224T130000
DTSTAMP:20260422T065306
CREATED:20240521T155018Z
LAST-MODIFIED:20240521T155018Z
UID:10007671-1861272000-1861275600@bazilikabudapest.hu
SUMMARY:SZENTMISE (BAZILIKÁBAN)
DESCRIPTION:
URL:https://bazilikabudapest.hu/en/esemenyek/szentmise-bazilikaban-3/2028-12-24/
END:VEVENT
BEGIN:VEVENT
DTSTART;TZID=Europe/Budapest:20281224T130000
DTEND;TZID=Europe/Budapest:20281224T174500
DTSTAMP:20260422T065306
CREATED:20240521T155152Z
LAST-MODIFIED:20240521T155152Z
UID:10007932-1861275600-1861292700@bazilikabudapest.hu
SUMMARY:BAZILIKA IDEGENFORGALOM SZÁMÁRA LÁTOGATHATÓ!
DESCRIPTION:
URL:https://bazilikabudapest.hu/en/esemenyek/bazilika-idegenforgalom-szamara-latogathato-3/2028-12-24/
END:VEVENT
BEGIN:VEVENT
DTSTART;TZID=Europe/Budapest:20281228T200000
DTEND;TZID=Europe/Budapest:20281229T050000
DTSTAMP:20260422T065306
CREATED:20240521T142054Z
LAST-MODIFIED:20240521T142054Z
UID:10006106-1861646400-1861678800@bazilikabudapest.hu
SUMMARY:VIRRASZTÁS MAGYARORSZÁGÉRT (MÁRIA KÁPOLNÁBAN)
DESCRIPTION:
URL:https://bazilikabudapest.hu/en/esemenyek/virrasztas-magyarorszagert-maria-kapolnaban/2028-12-28/
END:VEVENT
BEGIN:VEVENT
DTSTART;TZID=Europe/Budapest:20281230T180000
DTEND;TZID=Europe/Budapest:20281230T183000
DTSTAMP:20260422T065306
CREATED:20240521T135245Z
LAST-MODIFIED:20240521T135245Z
UID:10004537-1861812000-1861813800@bazilikabudapest.hu
SUMMARY:SZENTMISE - VASÁRNAP ELŐESTI (BAZILIKA)
DESCRIPTION:
URL:https://bazilikabudapest.hu/en/esemenyek/szentmise-vasarnap-eloesti-bazilika/2028-12-30/
END:VEVENT
BEGIN:VEVENT
DTSTART;TZID=Europe/Budapest:20281231T083000
DTEND;TZID=Europe/Budapest:20281231T090000
DTSTAMP:20260422T065306
CREATED:20240521T154641Z
LAST-MODIFIED:20240521T154641Z
UID:10006889-1861864200-1861866000@bazilikabudapest.hu
SUMMARY:SZENTMISE (BAZILIKÁBAN)
DESCRIPTION:
URL:https://bazilikabudapest.hu/en/esemenyek/szentmise-bazilikaban-2/2028-12-31/
END:VEVENT
BEGIN:VEVENT
DTSTART;TZID=Europe/Budapest:20281231T100000
DTEND;TZID=Europe/Budapest:20281231T110000
DTSTAMP:20260422T065306
CREATED:20240521T154755Z
LAST-MODIFIED:20240521T154755Z
UID:10007150-1861869600-1861873200@bazilikabudapest.hu
SUMMARY:SZENTMISE (NAGYMISE)
DESCRIPTION:
URL:https://bazilikabudapest.hu/en/esemenyek/szentmise-nagymise/2028-12-31/
END:VEVENT
BEGIN:VEVENT
DTSTART;TZID=Europe/Budapest:20281231T110000
DTEND;TZID=Europe/Budapest:20281231T120000
DTSTAMP:20260422T065306
CREATED:20240521T154843Z
LAST-MODIFIED:20240521T154843Z
UID:10007411-1861873200-1861876800@bazilikabudapest.hu
SUMMARY:KERESZTELŐK (BAZILIKÁBAN)
DESCRIPTION:
URL:https://bazilikabudapest.hu/en/esemenyek/keresztelok-bazilikaban/2028-12-31/
END:VEVENT
BEGIN:VEVENT
DTSTART;TZID=Europe/Budapest:20281231T120000
DTEND;TZID=Europe/Budapest:20281231T130000
DTSTAMP:20260422T065306
CREATED:20240521T155018Z
LAST-MODIFIED:20240521T155018Z
UID:10007672-1861876800-1861880400@bazilikabudapest.hu
SUMMARY:SZENTMISE (BAZILIKÁBAN)
DESCRIPTION:
URL:https://bazilikabudapest.hu/en/esemenyek/szentmise-bazilikaban-3/2028-12-31/
END:VEVENT
BEGIN:VEVENT
DTSTART;TZID=Europe/Budapest:20281231T130000
DTEND;TZID=Europe/Budapest:20281231T174500
DTSTAMP:20260422T065306
CREATED:20240521T155152Z
LAST-MODIFIED:20240521T155152Z
UID:10007933-1861880400-1861897500@bazilikabudapest.hu
SUMMARY:BAZILIKA IDEGENFORGALOM SZÁMÁRA LÁTOGATHATÓ!
DESCRIPTION:
URL:https://bazilikabudapest.hu/en/esemenyek/bazilika-idegenforgalom-szamara-latogathato-3/2028-12-31/
END:VEVENT
BEGIN:VEVENT
DTSTART;TZID=Europe/Budapest:20290104T200000
DTEND;TZID=Europe/Budapest:20290105T050000
DTSTAMP:20260422T065306
CREATED:20240521T142054Z
LAST-MODIFIED:20240521T142054Z
UID:10006107-1862251200-1862283600@bazilikabudapest.hu
SUMMARY:VIRRASZTÁS MAGYARORSZÁGÉRT (MÁRIA KÁPOLNÁBAN)
DESCRIPTION:
URL:https://bazilikabudapest.hu/en/esemenyek/virrasztas-magyarorszagert-maria-kapolnaban/2029-01-04/
END:VEVENT
BEGIN:VEVENT
DTSTART;TZID=Europe/Budapest:20290106T180000
DTEND;TZID=Europe/Budapest:20290106T183000
DTSTAMP:20260422T065306
CREATED:20240521T135245Z
LAST-MODIFIED:20240521T135245Z
UID:10004538-1862416800-1862418600@bazilikabudapest.hu
SUMMARY:SZENTMISE - VASÁRNAP ELŐESTI (BAZILIKA)
DESCRIPTION:
URL:https://bazilikabudapest.hu/en/esemenyek/szentmise-vasarnap-eloesti-bazilika/2029-01-06/
END:VEVENT
BEGIN:VEVENT
DTSTART;TZID=Europe/Budapest:20290107T083000
DTEND;TZID=Europe/Budapest:20290107T090000
DTSTAMP:20260422T065306
CREATED:20240521T154641Z
LAST-MODIFIED:20240521T154641Z
UID:10006890-1862469000-1862470800@bazilikabudapest.hu
SUMMARY:SZENTMISE (BAZILIKÁBAN)
DESCRIPTION:
URL:https://bazilikabudapest.hu/en/esemenyek/szentmise-bazilikaban-2/2029-01-07/
END:VEVENT
BEGIN:VEVENT
DTSTART;TZID=Europe/Budapest:20290107T100000
DTEND;TZID=Europe/Budapest:20290107T110000
DTSTAMP:20260422T065306
CREATED:20240521T154755Z
LAST-MODIFIED:20240521T154755Z
UID:10007151-1862474400-1862478000@bazilikabudapest.hu
SUMMARY:SZENTMISE (NAGYMISE)
DESCRIPTION:
URL:https://bazilikabudapest.hu/en/esemenyek/szentmise-nagymise/2029-01-07/
END:VEVENT
BEGIN:VEVENT
DTSTART;TZID=Europe/Budapest:20290107T110000
DTEND;TZID=Europe/Budapest:20290107T120000
DTSTAMP:20260422T065306
CREATED:20240521T154843Z
LAST-MODIFIED:20240521T154843Z
UID:10007412-1862478000-1862481600@bazilikabudapest.hu
SUMMARY:KERESZTELŐK (BAZILIKÁBAN)
DESCRIPTION:
URL:https://bazilikabudapest.hu/en/esemenyek/keresztelok-bazilikaban/2029-01-07/
END:VEVENT
BEGIN:VEVENT
DTSTART;TZID=Europe/Budapest:20290107T120000
DTEND;TZID=Europe/Budapest:20290107T130000
DTSTAMP:20260422T065306
CREATED:20240521T155018Z
LAST-MODIFIED:20240521T155018Z
UID:10007673-1862481600-1862485200@bazilikabudapest.hu
SUMMARY:SZENTMISE (BAZILIKÁBAN)
DESCRIPTION:
URL:https://bazilikabudapest.hu/en/esemenyek/szentmise-bazilikaban-3/2029-01-07/
END:VEVENT
BEGIN:VEVENT
DTSTART;TZID=Europe/Budapest:20290107T130000
DTEND;TZID=Europe/Budapest:20290107T174500
DTSTAMP:20260422T065306
CREATED:20240521T155152Z
LAST-MODIFIED:20240521T155152Z
UID:10007934-1862485200-1862502300@bazilikabudapest.hu
SUMMARY:BAZILIKA IDEGENFORGALOM SZÁMÁRA LÁTOGATHATÓ!
DESCRIPTION:
URL:https://bazilikabudapest.hu/en/esemenyek/bazilika-idegenforgalom-szamara-latogathato-3/2029-01-07/
END:VEVENT
BEGIN:VEVENT
DTSTART;TZID=Europe/Budapest:20290111T200000
DTEND;TZID=Europe/Budapest:20290112T050000
DTSTAMP:20260422T065306
CREATED:20240521T142054Z
LAST-MODIFIED:20240521T142054Z
UID:10006108-1862856000-1862888400@bazilikabudapest.hu
SUMMARY:VIRRASZTÁS MAGYARORSZÁGÉRT (MÁRIA KÁPOLNÁBAN)
DESCRIPTION:
URL:https://bazilikabudapest.hu/en/esemenyek/virrasztas-magyarorszagert-maria-kapolnaban/2029-01-11/
END:VEVENT
BEGIN:VEVENT
DTSTART;TZID=Europe/Budapest:20290113T180000
DTEND;TZID=Europe/Budapest:20290113T183000
DTSTAMP:20260422T065306
CREATED:20240521T135245Z
LAST-MODIFIED:20240521T135245Z
UID:10004539-1863021600-1863023400@bazilikabudapest.hu
SUMMARY:SZENTMISE - VASÁRNAP ELŐESTI (BAZILIKA)
DESCRIPTION:
URL:https://bazilikabudapest.hu/en/esemenyek/szentmise-vasarnap-eloesti-bazilika/2029-01-13/
END:VEVENT
BEGIN:VEVENT
DTSTART;TZID=Europe/Budapest:20290114T083000
DTEND;TZID=Europe/Budapest:20290114T090000
DTSTAMP:20260422T065306
CREATED:20240521T154641Z
LAST-MODIFIED:20240521T154641Z
UID:10006891-1863073800-1863075600@bazilikabudapest.hu
SUMMARY:SZENTMISE (BAZILIKÁBAN)
DESCRIPTION:
URL:https://bazilikabudapest.hu/en/esemenyek/szentmise-bazilikaban-2/2029-01-14/
END:VEVENT
BEGIN:VEVENT
DTSTART;TZID=Europe/Budapest:20290114T100000
DTEND;TZID=Europe/Budapest:20290114T110000
DTSTAMP:20260422T065306
CREATED:20240521T154755Z
LAST-MODIFIED:20240521T154755Z
UID:10007152-1863079200-1863082800@bazilikabudapest.hu
SUMMARY:SZENTMISE (NAGYMISE)
DESCRIPTION:
URL:https://bazilikabudapest.hu/en/esemenyek/szentmise-nagymise/2029-01-14/
END:VEVENT
BEGIN:VEVENT
DTSTART;TZID=Europe/Budapest:20290114T110000
DTEND;TZID=Europe/Budapest:20290114T120000
DTSTAMP:20260422T065306
CREATED:20240521T154843Z
LAST-MODIFIED:20240521T154843Z
UID:10007413-1863082800-1863086400@bazilikabudapest.hu
SUMMARY:KERESZTELŐK (BAZILIKÁBAN)
DESCRIPTION:
URL:https://bazilikabudapest.hu/en/esemenyek/keresztelok-bazilikaban/2029-01-14/
END:VEVENT
BEGIN:VEVENT
DTSTART;TZID=Europe/Budapest:20290114T120000
DTEND;TZID=Europe/Budapest:20290114T130000
DTSTAMP:20260422T065306
CREATED:20240521T155018Z
LAST-MODIFIED:20240521T155018Z
UID:10007674-1863086400-1863090000@bazilikabudapest.hu
SUMMARY:SZENTMISE (BAZILIKÁBAN)
DESCRIPTION:
URL:https://bazilikabudapest.hu/en/esemenyek/szentmise-bazilikaban-3/2029-01-14/
END:VEVENT
BEGIN:VEVENT
DTSTART;TZID=Europe/Budapest:20290114T130000
DTEND;TZID=Europe/Budapest:20290114T174500
DTSTAMP:20260422T065306
CREATED:20240521T155152Z
LAST-MODIFIED:20240521T155152Z
UID:10007935-1863090000-1863107100@bazilikabudapest.hu
SUMMARY:BAZILIKA IDEGENFORGALOM SZÁMÁRA LÁTOGATHATÓ!
DESCRIPTION:
URL:https://bazilikabudapest.hu/en/esemenyek/bazilika-idegenforgalom-szamara-latogathato-3/2029-01-14/
END:VEVENT
BEGIN:VEVENT
DTSTART;TZID=Europe/Budapest:20290118T200000
DTEND;TZID=Europe/Budapest:20290119T050000
DTSTAMP:20260422T065306
CREATED:20240521T142054Z
LAST-MODIFIED:20240521T142054Z
UID:10006109-1863460800-1863493200@bazilikabudapest.hu
SUMMARY:VIRRASZTÁS MAGYARORSZÁGÉRT (MÁRIA KÁPOLNÁBAN)
DESCRIPTION:
URL:https://bazilikabudapest.hu/en/esemenyek/virrasztas-magyarorszagert-maria-kapolnaban/2029-01-18/
END:VEVENT
END:VCALENDAR