BEGIN:VCALENDAR
VERSION:2.0
PRODID:-//Szent István Bazilika - Budapest - ECPv6.11.2.1//NONSGML v1.0//EN
CALSCALE:GREGORIAN
METHOD:PUBLISH
X-ORIGINAL-URL:https://bazilikabudapest.hu
X-WR-CALDESC:Events for Szent István Bazilika - Budapest
REFRESH-INTERVAL;VALUE=DURATION:PT1H
X-Robots-Tag:noindex
X-PUBLISHED-TTL:PT1H
BEGIN:VTIMEZONE
TZID:Europe/Budapest
BEGIN:DAYLIGHT
TZOFFSETFROM:+0100
TZOFFSETTO:+0200
TZNAME:CEST
DTSTART:20280326T010000
END:DAYLIGHT
BEGIN:STANDARD
TZOFFSETFROM:+0200
TZOFFSETTO:+0100
TZNAME:CET
DTSTART:20281029T010000
END:STANDARD
END:VTIMEZONE
BEGIN:VEVENT
DTSTART;TZID=Europe/Budapest:20280810T200000
DTEND;TZID=Europe/Budapest:20280811T050000
DTSTAMP:20260421T171826
CREATED:20240521T142054Z
LAST-MODIFIED:20240521T142054Z
UID:10006086-1849550400-1849582800@bazilikabudapest.hu
SUMMARY:VIRRASZTÁS MAGYARORSZÁGÉRT (MÁRIA KÁPOLNÁBAN)
DESCRIPTION:
URL:https://bazilikabudapest.hu/esemenyek/virrasztas-magyarorszagert-maria-kapolnaban/2028-08-10/
END:VEVENT
BEGIN:VEVENT
DTSTART;TZID=Europe/Budapest:20280812T180000
DTEND;TZID=Europe/Budapest:20280812T183000
DTSTAMP:20260421T171826
CREATED:20240521T135245Z
LAST-MODIFIED:20240521T135245Z
UID:10004517-1849716000-1849717800@bazilikabudapest.hu
SUMMARY:SZENTMISE - VASÁRNAP ELŐESTI (BAZILIKA)
DESCRIPTION:
URL:https://bazilikabudapest.hu/esemenyek/szentmise-vasarnap-eloesti-bazilika/2028-08-12/
END:VEVENT
BEGIN:VEVENT
DTSTART;TZID=Europe/Budapest:20280813T083000
DTEND;TZID=Europe/Budapest:20280813T090000
DTSTAMP:20260421T171826
CREATED:20240521T154641Z
LAST-MODIFIED:20240521T154641Z
UID:10006869-1849768200-1849770000@bazilikabudapest.hu
SUMMARY:SZENTMISE (BAZILIKÁBAN)
DESCRIPTION:
URL:https://bazilikabudapest.hu/esemenyek/szentmise-bazilikaban-2/2028-08-13/
END:VEVENT
BEGIN:VEVENT
DTSTART;TZID=Europe/Budapest:20280813T100000
DTEND;TZID=Europe/Budapest:20280813T110000
DTSTAMP:20260421T171826
CREATED:20240521T154755Z
LAST-MODIFIED:20240521T154755Z
UID:10007130-1849773600-1849777200@bazilikabudapest.hu
SUMMARY:SZENTMISE (NAGYMISE)
DESCRIPTION:
URL:https://bazilikabudapest.hu/esemenyek/szentmise-nagymise/2028-08-13/
END:VEVENT
BEGIN:VEVENT
DTSTART;TZID=Europe/Budapest:20280813T110000
DTEND;TZID=Europe/Budapest:20280813T120000
DTSTAMP:20260421T171826
CREATED:20240521T154843Z
LAST-MODIFIED:20240521T154843Z
UID:10007391-1849777200-1849780800@bazilikabudapest.hu
SUMMARY:KERESZTELŐK (BAZILIKÁBAN)
DESCRIPTION:
URL:https://bazilikabudapest.hu/esemenyek/keresztelok-bazilikaban/2028-08-13/
END:VEVENT
BEGIN:VEVENT
DTSTART;TZID=Europe/Budapest:20280813T120000
DTEND;TZID=Europe/Budapest:20280813T130000
DTSTAMP:20260421T171826
CREATED:20240521T155018Z
LAST-MODIFIED:20240521T155018Z
UID:10007652-1849780800-1849784400@bazilikabudapest.hu
SUMMARY:SZENTMISE (BAZILIKÁBAN)
DESCRIPTION:
URL:https://bazilikabudapest.hu/esemenyek/szentmise-bazilikaban-3/2028-08-13/
END:VEVENT
BEGIN:VEVENT
DTSTART;TZID=Europe/Budapest:20280813T130000
DTEND;TZID=Europe/Budapest:20280813T174500
DTSTAMP:20260421T171826
CREATED:20240521T155152Z
LAST-MODIFIED:20240521T155152Z
UID:10007913-1849784400-1849801500@bazilikabudapest.hu
SUMMARY:BAZILIKA IDEGENFORGALOM SZÁMÁRA LÁTOGATHATÓ!
DESCRIPTION:
URL:https://bazilikabudapest.hu/esemenyek/bazilika-idegenforgalom-szamara-latogathato-3/2028-08-13/
END:VEVENT
BEGIN:VEVENT
DTSTART;TZID=Europe/Budapest:20280817T200000
DTEND;TZID=Europe/Budapest:20280818T050000
DTSTAMP:20260421T171826
CREATED:20240521T142054Z
LAST-MODIFIED:20240521T142054Z
UID:10006087-1850155200-1850187600@bazilikabudapest.hu
SUMMARY:VIRRASZTÁS MAGYARORSZÁGÉRT (MÁRIA KÁPOLNÁBAN)
DESCRIPTION:
URL:https://bazilikabudapest.hu/esemenyek/virrasztas-magyarorszagert-maria-kapolnaban/2028-08-17/
END:VEVENT
BEGIN:VEVENT
DTSTART;TZID=Europe/Budapest:20280819T180000
DTEND;TZID=Europe/Budapest:20280819T183000
DTSTAMP:20260421T171826
CREATED:20240521T135245Z
LAST-MODIFIED:20240521T135245Z
UID:10004518-1850320800-1850322600@bazilikabudapest.hu
SUMMARY:SZENTMISE - VASÁRNAP ELŐESTI (BAZILIKA)
DESCRIPTION:
URL:https://bazilikabudapest.hu/esemenyek/szentmise-vasarnap-eloesti-bazilika/2028-08-19/
END:VEVENT
BEGIN:VEVENT
DTSTART;TZID=Europe/Budapest:20280820T083000
DTEND;TZID=Europe/Budapest:20280820T090000
DTSTAMP:20260421T171826
CREATED:20240521T154641Z
LAST-MODIFIED:20240521T154641Z
UID:10006870-1850373000-1850374800@bazilikabudapest.hu
SUMMARY:SZENTMISE (BAZILIKÁBAN)
DESCRIPTION:
URL:https://bazilikabudapest.hu/esemenyek/szentmise-bazilikaban-2/2028-08-20/
END:VEVENT
BEGIN:VEVENT
DTSTART;TZID=Europe/Budapest:20280820T100000
DTEND;TZID=Europe/Budapest:20280820T110000
DTSTAMP:20260421T171826
CREATED:20240521T154755Z
LAST-MODIFIED:20240521T154755Z
UID:10007131-1850378400-1850382000@bazilikabudapest.hu
SUMMARY:SZENTMISE (NAGYMISE)
DESCRIPTION:
URL:https://bazilikabudapest.hu/esemenyek/szentmise-nagymise/2028-08-20/
END:VEVENT
BEGIN:VEVENT
DTSTART;TZID=Europe/Budapest:20280820T110000
DTEND;TZID=Europe/Budapest:20280820T120000
DTSTAMP:20260421T171826
CREATED:20240521T154843Z
LAST-MODIFIED:20240521T154843Z
UID:10007392-1850382000-1850385600@bazilikabudapest.hu
SUMMARY:KERESZTELŐK (BAZILIKÁBAN)
DESCRIPTION:
URL:https://bazilikabudapest.hu/esemenyek/keresztelok-bazilikaban/2028-08-20/
END:VEVENT
BEGIN:VEVENT
DTSTART;TZID=Europe/Budapest:20280820T120000
DTEND;TZID=Europe/Budapest:20280820T130000
DTSTAMP:20260421T171826
CREATED:20240521T155018Z
LAST-MODIFIED:20240521T155018Z
UID:10007653-1850385600-1850389200@bazilikabudapest.hu
SUMMARY:SZENTMISE (BAZILIKÁBAN)
DESCRIPTION:
URL:https://bazilikabudapest.hu/esemenyek/szentmise-bazilikaban-3/2028-08-20/
END:VEVENT
BEGIN:VEVENT
DTSTART;TZID=Europe/Budapest:20280820T130000
DTEND;TZID=Europe/Budapest:20280820T174500
DTSTAMP:20260421T171826
CREATED:20240521T155152Z
LAST-MODIFIED:20240521T155152Z
UID:10007914-1850389200-1850406300@bazilikabudapest.hu
SUMMARY:BAZILIKA IDEGENFORGALOM SZÁMÁRA LÁTOGATHATÓ!
DESCRIPTION:
URL:https://bazilikabudapest.hu/esemenyek/bazilika-idegenforgalom-szamara-latogathato-3/2028-08-20/
END:VEVENT
BEGIN:VEVENT
DTSTART;TZID=Europe/Budapest:20280824T200000
DTEND;TZID=Europe/Budapest:20280825T050000
DTSTAMP:20260421T171826
CREATED:20240521T142054Z
LAST-MODIFIED:20240521T142054Z
UID:10006088-1850760000-1850792400@bazilikabudapest.hu
SUMMARY:VIRRASZTÁS MAGYARORSZÁGÉRT (MÁRIA KÁPOLNÁBAN)
DESCRIPTION:
URL:https://bazilikabudapest.hu/esemenyek/virrasztas-magyarorszagert-maria-kapolnaban/2028-08-24/
END:VEVENT
BEGIN:VEVENT
DTSTART;TZID=Europe/Budapest:20280826T180000
DTEND;TZID=Europe/Budapest:20280826T183000
DTSTAMP:20260421T171826
CREATED:20240521T135245Z
LAST-MODIFIED:20240521T135245Z
UID:10004519-1850925600-1850927400@bazilikabudapest.hu
SUMMARY:SZENTMISE - VASÁRNAP ELŐESTI (BAZILIKA)
DESCRIPTION:
URL:https://bazilikabudapest.hu/esemenyek/szentmise-vasarnap-eloesti-bazilika/2028-08-26/
END:VEVENT
BEGIN:VEVENT
DTSTART;TZID=Europe/Budapest:20280827T083000
DTEND;TZID=Europe/Budapest:20280827T090000
DTSTAMP:20260421T171826
CREATED:20240521T154641Z
LAST-MODIFIED:20240521T154641Z
UID:10006871-1850977800-1850979600@bazilikabudapest.hu
SUMMARY:SZENTMISE (BAZILIKÁBAN)
DESCRIPTION:
URL:https://bazilikabudapest.hu/esemenyek/szentmise-bazilikaban-2/2028-08-27/
END:VEVENT
BEGIN:VEVENT
DTSTART;TZID=Europe/Budapest:20280827T100000
DTEND;TZID=Europe/Budapest:20280827T110000
DTSTAMP:20260421T171826
CREATED:20240521T154755Z
LAST-MODIFIED:20240521T154755Z
UID:10007132-1850983200-1850986800@bazilikabudapest.hu
SUMMARY:SZENTMISE (NAGYMISE)
DESCRIPTION:
URL:https://bazilikabudapest.hu/esemenyek/szentmise-nagymise/2028-08-27/
END:VEVENT
BEGIN:VEVENT
DTSTART;TZID=Europe/Budapest:20280827T110000
DTEND;TZID=Europe/Budapest:20280827T120000
DTSTAMP:20260421T171826
CREATED:20240521T154843Z
LAST-MODIFIED:20240521T154843Z
UID:10007393-1850986800-1850990400@bazilikabudapest.hu
SUMMARY:KERESZTELŐK (BAZILIKÁBAN)
DESCRIPTION:
URL:https://bazilikabudapest.hu/esemenyek/keresztelok-bazilikaban/2028-08-27/
END:VEVENT
BEGIN:VEVENT
DTSTART;TZID=Europe/Budapest:20280827T120000
DTEND;TZID=Europe/Budapest:20280827T130000
DTSTAMP:20260421T171826
CREATED:20240521T155018Z
LAST-MODIFIED:20240521T155018Z
UID:10007654-1850990400-1850994000@bazilikabudapest.hu
SUMMARY:SZENTMISE (BAZILIKÁBAN)
DESCRIPTION:
URL:https://bazilikabudapest.hu/esemenyek/szentmise-bazilikaban-3/2028-08-27/
END:VEVENT
BEGIN:VEVENT
DTSTART;TZID=Europe/Budapest:20280827T130000
DTEND;TZID=Europe/Budapest:20280827T174500
DTSTAMP:20260421T171826
CREATED:20240521T155152Z
LAST-MODIFIED:20240521T155152Z
UID:10007915-1850994000-1851011100@bazilikabudapest.hu
SUMMARY:BAZILIKA IDEGENFORGALOM SZÁMÁRA LÁTOGATHATÓ!
DESCRIPTION:
URL:https://bazilikabudapest.hu/esemenyek/bazilika-idegenforgalom-szamara-latogathato-3/2028-08-27/
END:VEVENT
BEGIN:VEVENT
DTSTART;TZID=Europe/Budapest:20280831T200000
DTEND;TZID=Europe/Budapest:20280901T050000
DTSTAMP:20260421T171826
CREATED:20240521T142054Z
LAST-MODIFIED:20240521T142054Z
UID:10006089-1851364800-1851397200@bazilikabudapest.hu
SUMMARY:VIRRASZTÁS MAGYARORSZÁGÉRT (MÁRIA KÁPOLNÁBAN)
DESCRIPTION:
URL:https://bazilikabudapest.hu/esemenyek/virrasztas-magyarorszagert-maria-kapolnaban/2028-08-31/
END:VEVENT
BEGIN:VEVENT
DTSTART;TZID=Europe/Budapest:20280902T180000
DTEND;TZID=Europe/Budapest:20280902T183000
DTSTAMP:20260421T171826
CREATED:20240521T135245Z
LAST-MODIFIED:20240521T135245Z
UID:10004520-1851530400-1851532200@bazilikabudapest.hu
SUMMARY:SZENTMISE - VASÁRNAP ELŐESTI (BAZILIKA)
DESCRIPTION:
URL:https://bazilikabudapest.hu/esemenyek/szentmise-vasarnap-eloesti-bazilika/2028-09-02/
END:VEVENT
BEGIN:VEVENT
DTSTART;TZID=Europe/Budapest:20280903T083000
DTEND;TZID=Europe/Budapest:20280903T090000
DTSTAMP:20260421T171826
CREATED:20240521T154641Z
LAST-MODIFIED:20240521T154641Z
UID:10006872-1851582600-1851584400@bazilikabudapest.hu
SUMMARY:SZENTMISE (BAZILIKÁBAN)
DESCRIPTION:
URL:https://bazilikabudapest.hu/esemenyek/szentmise-bazilikaban-2/2028-09-03/
END:VEVENT
BEGIN:VEVENT
DTSTART;TZID=Europe/Budapest:20280903T100000
DTEND;TZID=Europe/Budapest:20280903T110000
DTSTAMP:20260421T171826
CREATED:20240521T154755Z
LAST-MODIFIED:20240521T154755Z
UID:10007133-1851588000-1851591600@bazilikabudapest.hu
SUMMARY:SZENTMISE (NAGYMISE)
DESCRIPTION:
URL:https://bazilikabudapest.hu/esemenyek/szentmise-nagymise/2028-09-03/
END:VEVENT
BEGIN:VEVENT
DTSTART;TZID=Europe/Budapest:20280903T110000
DTEND;TZID=Europe/Budapest:20280903T120000
DTSTAMP:20260421T171826
CREATED:20240521T154843Z
LAST-MODIFIED:20240521T154843Z
UID:10007394-1851591600-1851595200@bazilikabudapest.hu
SUMMARY:KERESZTELŐK (BAZILIKÁBAN)
DESCRIPTION:
URL:https://bazilikabudapest.hu/esemenyek/keresztelok-bazilikaban/2028-09-03/
END:VEVENT
BEGIN:VEVENT
DTSTART;TZID=Europe/Budapest:20280903T120000
DTEND;TZID=Europe/Budapest:20280903T130000
DTSTAMP:20260421T171826
CREATED:20240521T155018Z
LAST-MODIFIED:20240521T155018Z
UID:10007655-1851595200-1851598800@bazilikabudapest.hu
SUMMARY:SZENTMISE (BAZILIKÁBAN)
DESCRIPTION:
URL:https://bazilikabudapest.hu/esemenyek/szentmise-bazilikaban-3/2028-09-03/
END:VEVENT
BEGIN:VEVENT
DTSTART;TZID=Europe/Budapest:20280903T130000
DTEND;TZID=Europe/Budapest:20280903T174500
DTSTAMP:20260421T171826
CREATED:20240521T155152Z
LAST-MODIFIED:20240521T155152Z
UID:10007916-1851598800-1851615900@bazilikabudapest.hu
SUMMARY:BAZILIKA IDEGENFORGALOM SZÁMÁRA LÁTOGATHATÓ!
DESCRIPTION:
URL:https://bazilikabudapest.hu/esemenyek/bazilika-idegenforgalom-szamara-latogathato-3/2028-09-03/
END:VEVENT
BEGIN:VEVENT
DTSTART;TZID=Europe/Budapest:20280907T200000
DTEND;TZID=Europe/Budapest:20280908T050000
DTSTAMP:20260421T171826
CREATED:20240521T142054Z
LAST-MODIFIED:20240521T142054Z
UID:10006090-1851969600-1852002000@bazilikabudapest.hu
SUMMARY:VIRRASZTÁS MAGYARORSZÁGÉRT (MÁRIA KÁPOLNÁBAN)
DESCRIPTION:
URL:https://bazilikabudapest.hu/esemenyek/virrasztas-magyarorszagert-maria-kapolnaban/2028-09-07/
END:VEVENT
BEGIN:VEVENT
DTSTART;TZID=Europe/Budapest:20280909T180000
DTEND;TZID=Europe/Budapest:20280909T183000
DTSTAMP:20260421T171826
CREATED:20240521T135245Z
LAST-MODIFIED:20240521T135245Z
UID:10004521-1852135200-1852137000@bazilikabudapest.hu
SUMMARY:SZENTMISE - VASÁRNAP ELŐESTI (BAZILIKA)
DESCRIPTION:
URL:https://bazilikabudapest.hu/esemenyek/szentmise-vasarnap-eloesti-bazilika/2028-09-09/
END:VEVENT
END:VCALENDAR