BEGIN:VCALENDAR
VERSION:2.0
PRODID:-//Szent István Bazilika - Budapest - ECPv6.11.2.1//NONSGML v1.0//EN
CALSCALE:GREGORIAN
METHOD:PUBLISH
X-WR-CALNAME:Szent István Bazilika - Budapest
X-ORIGINAL-URL:https://bazilikabudapest.hu
X-WR-CALDESC:Events for Szent István Bazilika - Budapest
REFRESH-INTERVAL;VALUE=DURATION:PT1H
X-Robots-Tag:noindex
X-PUBLISHED-TTL:PT1H
BEGIN:VTIMEZONE
TZID:Europe/Budapest
BEGIN:DAYLIGHT
TZOFFSETFROM:+0100
TZOFFSETTO:+0200
TZNAME:CEST
DTSTART:20280326T010000
END:DAYLIGHT
BEGIN:STANDARD
TZOFFSETFROM:+0200
TZOFFSETTO:+0100
TZNAME:CET
DTSTART:20281029T010000
END:STANDARD
END:VTIMEZONE
BEGIN:VEVENT
DTSTART;TZID=Europe/Budapest:20281102T200000
DTEND;TZID=Europe/Budapest:20281103T050000
DTSTAMP:20260422T024058
CREATED:20240521T142054Z
LAST-MODIFIED:20240521T142054Z
UID:10006098-1856808000-1856840400@bazilikabudapest.hu
SUMMARY:VIRRASZTÁS MAGYARORSZÁGÉRT (MÁRIA KÁPOLNÁBAN)
DESCRIPTION:
URL:https://bazilikabudapest.hu/esemenyek/virrasztas-magyarorszagert-maria-kapolnaban/2028-11-02/
END:VEVENT
BEGIN:VEVENT
DTSTART;TZID=Europe/Budapest:20281104T180000
DTEND;TZID=Europe/Budapest:20281104T183000
DTSTAMP:20260422T024058
CREATED:20240521T135245Z
LAST-MODIFIED:20240521T135245Z
UID:10004529-1856973600-1856975400@bazilikabudapest.hu
SUMMARY:SZENTMISE - VASÁRNAP ELŐESTI (BAZILIKA)
DESCRIPTION:
URL:https://bazilikabudapest.hu/esemenyek/szentmise-vasarnap-eloesti-bazilika/2028-11-04/
END:VEVENT
BEGIN:VEVENT
DTSTART;TZID=Europe/Budapest:20281105T083000
DTEND;TZID=Europe/Budapest:20281105T090000
DTSTAMP:20260422T024058
CREATED:20240521T154641Z
LAST-MODIFIED:20240521T154641Z
UID:10006881-1857025800-1857027600@bazilikabudapest.hu
SUMMARY:SZENTMISE (BAZILIKÁBAN)
DESCRIPTION:
URL:https://bazilikabudapest.hu/esemenyek/szentmise-bazilikaban-2/2028-11-05/
END:VEVENT
BEGIN:VEVENT
DTSTART;TZID=Europe/Budapest:20281105T100000
DTEND;TZID=Europe/Budapest:20281105T110000
DTSTAMP:20260422T024058
CREATED:20240521T154755Z
LAST-MODIFIED:20240521T154755Z
UID:10007142-1857031200-1857034800@bazilikabudapest.hu
SUMMARY:SZENTMISE (NAGYMISE)
DESCRIPTION:
URL:https://bazilikabudapest.hu/esemenyek/szentmise-nagymise/2028-11-05/
END:VEVENT
BEGIN:VEVENT
DTSTART;TZID=Europe/Budapest:20281105T110000
DTEND;TZID=Europe/Budapest:20281105T120000
DTSTAMP:20260422T024058
CREATED:20240521T154843Z
LAST-MODIFIED:20240521T154843Z
UID:10007403-1857034800-1857038400@bazilikabudapest.hu
SUMMARY:KERESZTELŐK (BAZILIKÁBAN)
DESCRIPTION:
URL:https://bazilikabudapest.hu/esemenyek/keresztelok-bazilikaban/2028-11-05/
END:VEVENT
BEGIN:VEVENT
DTSTART;TZID=Europe/Budapest:20281105T120000
DTEND;TZID=Europe/Budapest:20281105T130000
DTSTAMP:20260422T024058
CREATED:20240521T155018Z
LAST-MODIFIED:20240521T155018Z
UID:10007664-1857038400-1857042000@bazilikabudapest.hu
SUMMARY:SZENTMISE (BAZILIKÁBAN)
DESCRIPTION:
URL:https://bazilikabudapest.hu/esemenyek/szentmise-bazilikaban-3/2028-11-05/
END:VEVENT
BEGIN:VEVENT
DTSTART;TZID=Europe/Budapest:20281105T130000
DTEND;TZID=Europe/Budapest:20281105T174500
DTSTAMP:20260422T024058
CREATED:20240521T155152Z
LAST-MODIFIED:20240521T155152Z
UID:10007925-1857042000-1857059100@bazilikabudapest.hu
SUMMARY:BAZILIKA IDEGENFORGALOM SZÁMÁRA LÁTOGATHATÓ!
DESCRIPTION:
URL:https://bazilikabudapest.hu/esemenyek/bazilika-idegenforgalom-szamara-latogathato-3/2028-11-05/
END:VEVENT
BEGIN:VEVENT
DTSTART;TZID=Europe/Budapest:20281109T200000
DTEND;TZID=Europe/Budapest:20281110T050000
DTSTAMP:20260422T024058
CREATED:20240521T142054Z
LAST-MODIFIED:20240521T142054Z
UID:10006099-1857412800-1857445200@bazilikabudapest.hu
SUMMARY:VIRRASZTÁS MAGYARORSZÁGÉRT (MÁRIA KÁPOLNÁBAN)
DESCRIPTION:
URL:https://bazilikabudapest.hu/esemenyek/virrasztas-magyarorszagert-maria-kapolnaban/2028-11-09/
END:VEVENT
BEGIN:VEVENT
DTSTART;TZID=Europe/Budapest:20281111T180000
DTEND;TZID=Europe/Budapest:20281111T183000
DTSTAMP:20260422T024058
CREATED:20240521T135245Z
LAST-MODIFIED:20240521T135245Z
UID:10004530-1857578400-1857580200@bazilikabudapest.hu
SUMMARY:SZENTMISE - VASÁRNAP ELŐESTI (BAZILIKA)
DESCRIPTION:
URL:https://bazilikabudapest.hu/esemenyek/szentmise-vasarnap-eloesti-bazilika/2028-11-11/
END:VEVENT
BEGIN:VEVENT
DTSTART;TZID=Europe/Budapest:20281112T083000
DTEND;TZID=Europe/Budapest:20281112T090000
DTSTAMP:20260422T024058
CREATED:20240521T154641Z
LAST-MODIFIED:20240521T154641Z
UID:10006882-1857630600-1857632400@bazilikabudapest.hu
SUMMARY:SZENTMISE (BAZILIKÁBAN)
DESCRIPTION:
URL:https://bazilikabudapest.hu/esemenyek/szentmise-bazilikaban-2/2028-11-12/
END:VEVENT
BEGIN:VEVENT
DTSTART;TZID=Europe/Budapest:20281112T100000
DTEND;TZID=Europe/Budapest:20281112T110000
DTSTAMP:20260422T024058
CREATED:20240521T154755Z
LAST-MODIFIED:20240521T154755Z
UID:10007143-1857636000-1857639600@bazilikabudapest.hu
SUMMARY:SZENTMISE (NAGYMISE)
DESCRIPTION:
URL:https://bazilikabudapest.hu/esemenyek/szentmise-nagymise/2028-11-12/
END:VEVENT
BEGIN:VEVENT
DTSTART;TZID=Europe/Budapest:20281112T110000
DTEND;TZID=Europe/Budapest:20281112T120000
DTSTAMP:20260422T024058
CREATED:20240521T154843Z
LAST-MODIFIED:20240521T154843Z
UID:10007404-1857639600-1857643200@bazilikabudapest.hu
SUMMARY:KERESZTELŐK (BAZILIKÁBAN)
DESCRIPTION:
URL:https://bazilikabudapest.hu/esemenyek/keresztelok-bazilikaban/2028-11-12/
END:VEVENT
BEGIN:VEVENT
DTSTART;TZID=Europe/Budapest:20281112T120000
DTEND;TZID=Europe/Budapest:20281112T130000
DTSTAMP:20260422T024058
CREATED:20240521T155018Z
LAST-MODIFIED:20240521T155018Z
UID:10007665-1857643200-1857646800@bazilikabudapest.hu
SUMMARY:SZENTMISE (BAZILIKÁBAN)
DESCRIPTION:
URL:https://bazilikabudapest.hu/esemenyek/szentmise-bazilikaban-3/2028-11-12/
END:VEVENT
BEGIN:VEVENT
DTSTART;TZID=Europe/Budapest:20281112T130000
DTEND;TZID=Europe/Budapest:20281112T174500
DTSTAMP:20260422T024058
CREATED:20240521T155152Z
LAST-MODIFIED:20240521T155152Z
UID:10007926-1857646800-1857663900@bazilikabudapest.hu
SUMMARY:BAZILIKA IDEGENFORGALOM SZÁMÁRA LÁTOGATHATÓ!
DESCRIPTION:
URL:https://bazilikabudapest.hu/esemenyek/bazilika-idegenforgalom-szamara-latogathato-3/2028-11-12/
END:VEVENT
BEGIN:VEVENT
DTSTART;TZID=Europe/Budapest:20281116T200000
DTEND;TZID=Europe/Budapest:20281117T050000
DTSTAMP:20260422T024058
CREATED:20240521T142054Z
LAST-MODIFIED:20240521T142054Z
UID:10006100-1858017600-1858050000@bazilikabudapest.hu
SUMMARY:VIRRASZTÁS MAGYARORSZÁGÉRT (MÁRIA KÁPOLNÁBAN)
DESCRIPTION:
URL:https://bazilikabudapest.hu/esemenyek/virrasztas-magyarorszagert-maria-kapolnaban/2028-11-16/
END:VEVENT
BEGIN:VEVENT
DTSTART;TZID=Europe/Budapest:20281118T180000
DTEND;TZID=Europe/Budapest:20281118T183000
DTSTAMP:20260422T024058
CREATED:20240521T135245Z
LAST-MODIFIED:20240521T135245Z
UID:10004531-1858183200-1858185000@bazilikabudapest.hu
SUMMARY:SZENTMISE - VASÁRNAP ELŐESTI (BAZILIKA)
DESCRIPTION:
URL:https://bazilikabudapest.hu/esemenyek/szentmise-vasarnap-eloesti-bazilika/2028-11-18/
END:VEVENT
BEGIN:VEVENT
DTSTART;TZID=Europe/Budapest:20281119T083000
DTEND;TZID=Europe/Budapest:20281119T090000
DTSTAMP:20260422T024058
CREATED:20240521T154641Z
LAST-MODIFIED:20240521T154641Z
UID:10006883-1858235400-1858237200@bazilikabudapest.hu
SUMMARY:SZENTMISE (BAZILIKÁBAN)
DESCRIPTION:
URL:https://bazilikabudapest.hu/esemenyek/szentmise-bazilikaban-2/2028-11-19/
END:VEVENT
BEGIN:VEVENT
DTSTART;TZID=Europe/Budapest:20281119T100000
DTEND;TZID=Europe/Budapest:20281119T110000
DTSTAMP:20260422T024058
CREATED:20240521T154755Z
LAST-MODIFIED:20240521T154755Z
UID:10007144-1858240800-1858244400@bazilikabudapest.hu
SUMMARY:SZENTMISE (NAGYMISE)
DESCRIPTION:
URL:https://bazilikabudapest.hu/esemenyek/szentmise-nagymise/2028-11-19/
END:VEVENT
BEGIN:VEVENT
DTSTART;TZID=Europe/Budapest:20281119T110000
DTEND;TZID=Europe/Budapest:20281119T120000
DTSTAMP:20260422T024058
CREATED:20240521T154843Z
LAST-MODIFIED:20240521T154843Z
UID:10007405-1858244400-1858248000@bazilikabudapest.hu
SUMMARY:KERESZTELŐK (BAZILIKÁBAN)
DESCRIPTION:
URL:https://bazilikabudapest.hu/esemenyek/keresztelok-bazilikaban/2028-11-19/
END:VEVENT
BEGIN:VEVENT
DTSTART;TZID=Europe/Budapest:20281119T120000
DTEND;TZID=Europe/Budapest:20281119T130000
DTSTAMP:20260422T024058
CREATED:20240521T155018Z
LAST-MODIFIED:20240521T155018Z
UID:10007666-1858248000-1858251600@bazilikabudapest.hu
SUMMARY:SZENTMISE (BAZILIKÁBAN)
DESCRIPTION:
URL:https://bazilikabudapest.hu/esemenyek/szentmise-bazilikaban-3/2028-11-19/
END:VEVENT
BEGIN:VEVENT
DTSTART;TZID=Europe/Budapest:20281119T130000
DTEND;TZID=Europe/Budapest:20281119T174500
DTSTAMP:20260422T024058
CREATED:20240521T155152Z
LAST-MODIFIED:20240521T155152Z
UID:10007927-1858251600-1858268700@bazilikabudapest.hu
SUMMARY:BAZILIKA IDEGENFORGALOM SZÁMÁRA LÁTOGATHATÓ!
DESCRIPTION:
URL:https://bazilikabudapest.hu/esemenyek/bazilika-idegenforgalom-szamara-latogathato-3/2028-11-19/
END:VEVENT
BEGIN:VEVENT
DTSTART;TZID=Europe/Budapest:20281123T200000
DTEND;TZID=Europe/Budapest:20281124T050000
DTSTAMP:20260422T024058
CREATED:20240521T142054Z
LAST-MODIFIED:20240521T142054Z
UID:10006101-1858622400-1858654800@bazilikabudapest.hu
SUMMARY:VIRRASZTÁS MAGYARORSZÁGÉRT (MÁRIA KÁPOLNÁBAN)
DESCRIPTION:
URL:https://bazilikabudapest.hu/esemenyek/virrasztas-magyarorszagert-maria-kapolnaban/2028-11-23/
END:VEVENT
BEGIN:VEVENT
DTSTART;TZID=Europe/Budapest:20281125T180000
DTEND;TZID=Europe/Budapest:20281125T183000
DTSTAMP:20260422T024058
CREATED:20240521T135245Z
LAST-MODIFIED:20240521T135245Z
UID:10004532-1858788000-1858789800@bazilikabudapest.hu
SUMMARY:SZENTMISE - VASÁRNAP ELŐESTI (BAZILIKA)
DESCRIPTION:
URL:https://bazilikabudapest.hu/esemenyek/szentmise-vasarnap-eloesti-bazilika/2028-11-25/
END:VEVENT
BEGIN:VEVENT
DTSTART;TZID=Europe/Budapest:20281126T083000
DTEND;TZID=Europe/Budapest:20281126T090000
DTSTAMP:20260422T024058
CREATED:20240521T154641Z
LAST-MODIFIED:20240521T154641Z
UID:10006884-1858840200-1858842000@bazilikabudapest.hu
SUMMARY:SZENTMISE (BAZILIKÁBAN)
DESCRIPTION:
URL:https://bazilikabudapest.hu/esemenyek/szentmise-bazilikaban-2/2028-11-26/
END:VEVENT
BEGIN:VEVENT
DTSTART;TZID=Europe/Budapest:20281126T100000
DTEND;TZID=Europe/Budapest:20281126T110000
DTSTAMP:20260422T024058
CREATED:20240521T154755Z
LAST-MODIFIED:20240521T154755Z
UID:10007145-1858845600-1858849200@bazilikabudapest.hu
SUMMARY:SZENTMISE (NAGYMISE)
DESCRIPTION:
URL:https://bazilikabudapest.hu/esemenyek/szentmise-nagymise/2028-11-26/
END:VEVENT
BEGIN:VEVENT
DTSTART;TZID=Europe/Budapest:20281126T110000
DTEND;TZID=Europe/Budapest:20281126T120000
DTSTAMP:20260422T024058
CREATED:20240521T154843Z
LAST-MODIFIED:20240521T154843Z
UID:10007406-1858849200-1858852800@bazilikabudapest.hu
SUMMARY:KERESZTELŐK (BAZILIKÁBAN)
DESCRIPTION:
URL:https://bazilikabudapest.hu/esemenyek/keresztelok-bazilikaban/2028-11-26/
END:VEVENT
BEGIN:VEVENT
DTSTART;TZID=Europe/Budapest:20281126T120000
DTEND;TZID=Europe/Budapest:20281126T130000
DTSTAMP:20260422T024058
CREATED:20240521T155018Z
LAST-MODIFIED:20240521T155018Z
UID:10007667-1858852800-1858856400@bazilikabudapest.hu
SUMMARY:SZENTMISE (BAZILIKÁBAN)
DESCRIPTION:
URL:https://bazilikabudapest.hu/esemenyek/szentmise-bazilikaban-3/2028-11-26/
END:VEVENT
BEGIN:VEVENT
DTSTART;TZID=Europe/Budapest:20281126T130000
DTEND;TZID=Europe/Budapest:20281126T174500
DTSTAMP:20260422T024058
CREATED:20240521T155152Z
LAST-MODIFIED:20240521T155152Z
UID:10007928-1858856400-1858873500@bazilikabudapest.hu
SUMMARY:BAZILIKA IDEGENFORGALOM SZÁMÁRA LÁTOGATHATÓ!
DESCRIPTION:
URL:https://bazilikabudapest.hu/esemenyek/bazilika-idegenforgalom-szamara-latogathato-3/2028-11-26/
END:VEVENT
BEGIN:VEVENT
DTSTART;TZID=Europe/Budapest:20281130T200000
DTEND;TZID=Europe/Budapest:20281201T050000
DTSTAMP:20260422T024058
CREATED:20240521T142054Z
LAST-MODIFIED:20240521T142054Z
UID:10006102-1859227200-1859259600@bazilikabudapest.hu
SUMMARY:VIRRASZTÁS MAGYARORSZÁGÉRT (MÁRIA KÁPOLNÁBAN)
DESCRIPTION:
URL:https://bazilikabudapest.hu/esemenyek/virrasztas-magyarorszagert-maria-kapolnaban/2028-11-30/
END:VEVENT
BEGIN:VEVENT
DTSTART;TZID=Europe/Budapest:20281202T180000
DTEND;TZID=Europe/Budapest:20281202T183000
DTSTAMP:20260422T024058
CREATED:20240521T135245Z
LAST-MODIFIED:20240521T135245Z
UID:10004533-1859392800-1859394600@bazilikabudapest.hu
SUMMARY:SZENTMISE - VASÁRNAP ELŐESTI (BAZILIKA)
DESCRIPTION:
URL:https://bazilikabudapest.hu/esemenyek/szentmise-vasarnap-eloesti-bazilika/2028-12-02/
END:VEVENT
END:VCALENDAR