BEGIN:VCALENDAR
VERSION:2.0
PRODID:-//Szent István Bazilika - Budapest - ECPv6.11.2.1//NONSGML v1.0//EN
CALSCALE:GREGORIAN
METHOD:PUBLISH
X-WR-CALNAME:Szent István Bazilika - Budapest
X-ORIGINAL-URL:https://bazilikabudapest.hu
X-WR-CALDESC:Events for Szent István Bazilika - Budapest
REFRESH-INTERVAL;VALUE=DURATION:PT1H
X-Robots-Tag:noindex
X-PUBLISHED-TTL:PT1H
BEGIN:VTIMEZONE
TZID:Europe/Budapest
BEGIN:DAYLIGHT
TZOFFSETFROM:+0100
TZOFFSETTO:+0200
TZNAME:CEST
DTSTART:20290325T010000
END:DAYLIGHT
BEGIN:STANDARD
TZOFFSETFROM:+0200
TZOFFSETTO:+0100
TZNAME:CET
DTSTART:20291028T010000
END:STANDARD
END:VTIMEZONE
BEGIN:VEVENT
DTSTART;TZID=Europe/Budapest:20290128T083000
DTEND;TZID=Europe/Budapest:20290128T090000
DTSTAMP:20260423T163112
CREATED:20240521T154641Z
LAST-MODIFIED:20240521T154641Z
UID:10006893-1864283400-1864285200@bazilikabudapest.hu
SUMMARY:SZENTMISE (BAZILIKÁBAN)
DESCRIPTION:
URL:https://bazilikabudapest.hu/esemenyek/szentmise-bazilikaban-2/2029-01-28/
END:VEVENT
BEGIN:VEVENT
DTSTART;TZID=Europe/Budapest:20290204T083000
DTEND;TZID=Europe/Budapest:20290204T090000
DTSTAMP:20260423T163112
CREATED:20240521T154641Z
LAST-MODIFIED:20240521T154641Z
UID:10006894-1864888200-1864890000@bazilikabudapest.hu
SUMMARY:SZENTMISE (BAZILIKÁBAN)
DESCRIPTION:
URL:https://bazilikabudapest.hu/esemenyek/szentmise-bazilikaban-2/2029-02-04/
END:VEVENT
BEGIN:VEVENT
DTSTART;TZID=Europe/Budapest:20290211T083000
DTEND;TZID=Europe/Budapest:20290211T090000
DTSTAMP:20260423T163112
CREATED:20240521T154641Z
LAST-MODIFIED:20240521T154641Z
UID:10006895-1865493000-1865494800@bazilikabudapest.hu
SUMMARY:SZENTMISE (BAZILIKÁBAN)
DESCRIPTION:
URL:https://bazilikabudapest.hu/esemenyek/szentmise-bazilikaban-2/2029-02-11/
END:VEVENT
BEGIN:VEVENT
DTSTART;TZID=Europe/Budapest:20290218T083000
DTEND;TZID=Europe/Budapest:20290218T090000
DTSTAMP:20260423T163112
CREATED:20240521T154641Z
LAST-MODIFIED:20240521T154641Z
UID:10006896-1866097800-1866099600@bazilikabudapest.hu
SUMMARY:SZENTMISE (BAZILIKÁBAN)
DESCRIPTION:
URL:https://bazilikabudapest.hu/esemenyek/szentmise-bazilikaban-2/2029-02-18/
END:VEVENT
BEGIN:VEVENT
DTSTART;TZID=Europe/Budapest:20290225T083000
DTEND;TZID=Europe/Budapest:20290225T090000
DTSTAMP:20260423T163112
CREATED:20240521T154641Z
LAST-MODIFIED:20240521T154641Z
UID:10006897-1866702600-1866704400@bazilikabudapest.hu
SUMMARY:SZENTMISE (BAZILIKÁBAN)
DESCRIPTION:
URL:https://bazilikabudapest.hu/esemenyek/szentmise-bazilikaban-2/2029-02-25/
END:VEVENT
BEGIN:VEVENT
DTSTART;TZID=Europe/Budapest:20290304T083000
DTEND;TZID=Europe/Budapest:20290304T090000
DTSTAMP:20260423T163112
CREATED:20240521T154641Z
LAST-MODIFIED:20240521T154641Z
UID:10006898-1867307400-1867309200@bazilikabudapest.hu
SUMMARY:SZENTMISE (BAZILIKÁBAN)
DESCRIPTION:
URL:https://bazilikabudapest.hu/esemenyek/szentmise-bazilikaban-2/2029-03-04/
END:VEVENT
BEGIN:VEVENT
DTSTART;TZID=Europe/Budapest:20290311T083000
DTEND;TZID=Europe/Budapest:20290311T090000
DTSTAMP:20260423T163112
CREATED:20240521T154641Z
LAST-MODIFIED:20240521T154641Z
UID:10006899-1867912200-1867914000@bazilikabudapest.hu
SUMMARY:SZENTMISE (BAZILIKÁBAN)
DESCRIPTION:
URL:https://bazilikabudapest.hu/esemenyek/szentmise-bazilikaban-2/2029-03-11/
END:VEVENT
BEGIN:VEVENT
DTSTART;TZID=Europe/Budapest:20290318T083000
DTEND;TZID=Europe/Budapest:20290318T090000
DTSTAMP:20260423T163112
CREATED:20240521T154641Z
LAST-MODIFIED:20240521T154641Z
UID:10006900-1868517000-1868518800@bazilikabudapest.hu
SUMMARY:SZENTMISE (BAZILIKÁBAN)
DESCRIPTION:
URL:https://bazilikabudapest.hu/esemenyek/szentmise-bazilikaban-2/2029-03-18/
END:VEVENT
BEGIN:VEVENT
DTSTART;TZID=Europe/Budapest:20290325T083000
DTEND;TZID=Europe/Budapest:20290325T090000
DTSTAMP:20260423T163112
CREATED:20240521T154641Z
LAST-MODIFIED:20240521T154641Z
UID:10006901-1869121800-1869123600@bazilikabudapest.hu
SUMMARY:SZENTMISE (BAZILIKÁBAN)
DESCRIPTION:
URL:https://bazilikabudapest.hu/esemenyek/szentmise-bazilikaban-2/2029-03-25/
END:VEVENT
BEGIN:VEVENT
DTSTART;TZID=Europe/Budapest:20290401T083000
DTEND;TZID=Europe/Budapest:20290401T090000
DTSTAMP:20260423T163112
CREATED:20240521T154641Z
LAST-MODIFIED:20240521T154641Z
UID:10006902-1869726600-1869728400@bazilikabudapest.hu
SUMMARY:SZENTMISE (BAZILIKÁBAN)
DESCRIPTION:
URL:https://bazilikabudapest.hu/esemenyek/szentmise-bazilikaban-2/2029-04-01/
END:VEVENT
BEGIN:VEVENT
DTSTART;TZID=Europe/Budapest:20290408T083000
DTEND;TZID=Europe/Budapest:20290408T090000
DTSTAMP:20260423T163112
CREATED:20240521T154641Z
LAST-MODIFIED:20240521T154641Z
UID:10006903-1870331400-1870333200@bazilikabudapest.hu
SUMMARY:SZENTMISE (BAZILIKÁBAN)
DESCRIPTION:
URL:https://bazilikabudapest.hu/esemenyek/szentmise-bazilikaban-2/2029-04-08/
END:VEVENT
BEGIN:VEVENT
DTSTART;TZID=Europe/Budapest:20290415T083000
DTEND;TZID=Europe/Budapest:20290415T090000
DTSTAMP:20260423T163112
CREATED:20240521T154641Z
LAST-MODIFIED:20240521T154641Z
UID:10006904-1870936200-1870938000@bazilikabudapest.hu
SUMMARY:SZENTMISE (BAZILIKÁBAN)
DESCRIPTION:
URL:https://bazilikabudapest.hu/esemenyek/szentmise-bazilikaban-2/2029-04-15/
END:VEVENT
BEGIN:VEVENT
DTSTART;TZID=Europe/Budapest:20290422T083000
DTEND;TZID=Europe/Budapest:20290422T090000
DTSTAMP:20260423T163112
CREATED:20240521T154641Z
LAST-MODIFIED:20240521T154641Z
UID:10006905-1871541000-1871542800@bazilikabudapest.hu
SUMMARY:SZENTMISE (BAZILIKÁBAN)
DESCRIPTION:
URL:https://bazilikabudapest.hu/esemenyek/szentmise-bazilikaban-2/2029-04-22/
END:VEVENT
BEGIN:VEVENT
DTSTART;TZID=Europe/Budapest:20290429T083000
DTEND;TZID=Europe/Budapest:20290429T090000
DTSTAMP:20260423T163112
CREATED:20240521T154641Z
LAST-MODIFIED:20240521T154641Z
UID:10006906-1872145800-1872147600@bazilikabudapest.hu
SUMMARY:SZENTMISE (BAZILIKÁBAN)
DESCRIPTION:
URL:https://bazilikabudapest.hu/esemenyek/szentmise-bazilikaban-2/2029-04-29/
END:VEVENT
BEGIN:VEVENT
DTSTART;TZID=Europe/Budapest:20290506T083000
DTEND;TZID=Europe/Budapest:20290506T090000
DTSTAMP:20260423T163112
CREATED:20240521T154641Z
LAST-MODIFIED:20240521T154641Z
UID:10006907-1872750600-1872752400@bazilikabudapest.hu
SUMMARY:SZENTMISE (BAZILIKÁBAN)
DESCRIPTION:
URL:https://bazilikabudapest.hu/esemenyek/szentmise-bazilikaban-2/2029-05-06/
END:VEVENT
BEGIN:VEVENT
DTSTART;TZID=Europe/Budapest:20290513T083000
DTEND;TZID=Europe/Budapest:20290513T090000
DTSTAMP:20260423T163112
CREATED:20240521T154641Z
LAST-MODIFIED:20240521T154641Z
UID:10006908-1873355400-1873357200@bazilikabudapest.hu
SUMMARY:SZENTMISE (BAZILIKÁBAN)
DESCRIPTION:
URL:https://bazilikabudapest.hu/esemenyek/szentmise-bazilikaban-2/2029-05-13/
END:VEVENT
BEGIN:VEVENT
DTSTART;TZID=Europe/Budapest:20290520T083000
DTEND;TZID=Europe/Budapest:20290520T090000
DTSTAMP:20260423T163112
CREATED:20240521T154641Z
LAST-MODIFIED:20240521T154641Z
UID:10006909-1873960200-1873962000@bazilikabudapest.hu
SUMMARY:SZENTMISE (BAZILIKÁBAN)
DESCRIPTION:
URL:https://bazilikabudapest.hu/esemenyek/szentmise-bazilikaban-2/2029-05-20/
END:VEVENT
END:VCALENDAR