BEGIN:VCALENDAR
VERSION:2.0
PRODID:-//Szent István Bazilika - Budapest - ECPv6.11.2.1//NONSGML v1.0//EN
CALSCALE:GREGORIAN
METHOD:PUBLISH
X-WR-CALNAME:Szent István Bazilika - Budapest
X-ORIGINAL-URL:https://bazilikabudapest.hu
X-WR-CALDESC:Events for Szent István Bazilika - Budapest
REFRESH-INTERVAL;VALUE=DURATION:PT1H
X-Robots-Tag:noindex
X-PUBLISHED-TTL:PT1H
BEGIN:VTIMEZONE
TZID:Europe/Budapest
BEGIN:DAYLIGHT
TZOFFSETFROM:+0100
TZOFFSETTO:+0200
TZNAME:CEST
DTSTART:20290325T010000
END:DAYLIGHT
BEGIN:STANDARD
TZOFFSETFROM:+0200
TZOFFSETTO:+0100
TZNAME:CET
DTSTART:20291028T010000
END:STANDARD
BEGIN:DAYLIGHT
TZOFFSETFROM:+0100
TZOFFSETTO:+0200
TZNAME:CEST
DTSTART:20300331T010000
END:DAYLIGHT
BEGIN:STANDARD
TZOFFSETFROM:+0200
TZOFFSETTO:+0100
TZNAME:CET
DTSTART:20301027T010000
END:STANDARD
END:VTIMEZONE
BEGIN:VEVENT
DTSTART;TZID=Europe/Budapest:20290715T110000
DTEND;TZID=Europe/Budapest:20290715T120000
DTSTAMP:20260423T131209
CREATED:20240521T154843Z
LAST-MODIFIED:20240521T154843Z
UID:10009753-1878807600-1878811200@bazilikabudapest.hu
SUMMARY:KERESZTELŐK (BAZILIKÁBAN)
DESCRIPTION:
URL:https://bazilikabudapest.hu/esemenyek/keresztelok-bazilikaban/2029-07-15/
END:VEVENT
BEGIN:VEVENT
DTSTART;TZID=Europe/Budapest:20290722T110000
DTEND;TZID=Europe/Budapest:20290722T120000
DTSTAMP:20260423T131209
CREATED:20240521T154843Z
LAST-MODIFIED:20240521T154843Z
UID:10009754-1879412400-1879416000@bazilikabudapest.hu
SUMMARY:KERESZTELŐK (BAZILIKÁBAN)
DESCRIPTION:
URL:https://bazilikabudapest.hu/esemenyek/keresztelok-bazilikaban/2029-07-22/
END:VEVENT
BEGIN:VEVENT
DTSTART;TZID=Europe/Budapest:20290729T110000
DTEND;TZID=Europe/Budapest:20290729T120000
DTSTAMP:20260423T131209
CREATED:20240521T154843Z
LAST-MODIFIED:20240521T154843Z
UID:10009755-1880017200-1880020800@bazilikabudapest.hu
SUMMARY:KERESZTELŐK (BAZILIKÁBAN)
DESCRIPTION:
URL:https://bazilikabudapest.hu/esemenyek/keresztelok-bazilikaban/2029-07-29/
END:VEVENT
BEGIN:VEVENT
DTSTART;TZID=Europe/Budapest:20290805T110000
DTEND;TZID=Europe/Budapest:20290805T120000
DTSTAMP:20260423T131209
CREATED:20240521T154843Z
LAST-MODIFIED:20240521T154843Z
UID:10009756-1880622000-1880625600@bazilikabudapest.hu
SUMMARY:KERESZTELŐK (BAZILIKÁBAN)
DESCRIPTION:
URL:https://bazilikabudapest.hu/esemenyek/keresztelok-bazilikaban/2029-08-05/
END:VEVENT
BEGIN:VEVENT
DTSTART;TZID=Europe/Budapest:20290812T110000
DTEND;TZID=Europe/Budapest:20290812T120000
DTSTAMP:20260423T131209
CREATED:20240521T154843Z
LAST-MODIFIED:20240521T154843Z
UID:10009757-1881226800-1881230400@bazilikabudapest.hu
SUMMARY:KERESZTELŐK (BAZILIKÁBAN)
DESCRIPTION:
URL:https://bazilikabudapest.hu/esemenyek/keresztelok-bazilikaban/2029-08-12/
END:VEVENT
BEGIN:VEVENT
DTSTART;TZID=Europe/Budapest:20290819T110000
DTEND;TZID=Europe/Budapest:20290819T120000
DTSTAMP:20260423T131209
CREATED:20240521T154843Z
LAST-MODIFIED:20240521T154843Z
UID:10009758-1881831600-1881835200@bazilikabudapest.hu
SUMMARY:KERESZTELŐK (BAZILIKÁBAN)
DESCRIPTION:
URL:https://bazilikabudapest.hu/esemenyek/keresztelok-bazilikaban/2029-08-19/
END:VEVENT
BEGIN:VEVENT
DTSTART;TZID=Europe/Budapest:20290826T110000
DTEND;TZID=Europe/Budapest:20290826T120000
DTSTAMP:20260423T131209
CREATED:20240521T154843Z
LAST-MODIFIED:20240521T154843Z
UID:10009759-1882436400-1882440000@bazilikabudapest.hu
SUMMARY:KERESZTELŐK (BAZILIKÁBAN)
DESCRIPTION:
URL:https://bazilikabudapest.hu/esemenyek/keresztelok-bazilikaban/2029-08-26/
END:VEVENT
BEGIN:VEVENT
DTSTART;TZID=Europe/Budapest:20290902T110000
DTEND;TZID=Europe/Budapest:20290902T120000
DTSTAMP:20260423T131209
CREATED:20240521T154843Z
LAST-MODIFIED:20240521T154843Z
UID:10009760-1883041200-1883044800@bazilikabudapest.hu
SUMMARY:KERESZTELŐK (BAZILIKÁBAN)
DESCRIPTION:
URL:https://bazilikabudapest.hu/esemenyek/keresztelok-bazilikaban/2029-09-02/
END:VEVENT
BEGIN:VEVENT
DTSTART;TZID=Europe/Budapest:20290909T110000
DTEND;TZID=Europe/Budapest:20290909T120000
DTSTAMP:20260423T131209
CREATED:20240521T154843Z
LAST-MODIFIED:20240521T154843Z
UID:10009761-1883646000-1883649600@bazilikabudapest.hu
SUMMARY:KERESZTELŐK (BAZILIKÁBAN)
DESCRIPTION:
URL:https://bazilikabudapest.hu/esemenyek/keresztelok-bazilikaban/2029-09-09/
END:VEVENT
BEGIN:VEVENT
DTSTART;TZID=Europe/Budapest:20290916T110000
DTEND;TZID=Europe/Budapest:20290916T120000
DTSTAMP:20260423T131209
CREATED:20240521T154843Z
LAST-MODIFIED:20240521T154843Z
UID:10009762-1884250800-1884254400@bazilikabudapest.hu
SUMMARY:KERESZTELŐK (BAZILIKÁBAN)
DESCRIPTION:
URL:https://bazilikabudapest.hu/esemenyek/keresztelok-bazilikaban/2029-09-16/
END:VEVENT
BEGIN:VEVENT
DTSTART;TZID=Europe/Budapest:20290923T110000
DTEND;TZID=Europe/Budapest:20290923T120000
DTSTAMP:20260423T131209
CREATED:20240521T154843Z
LAST-MODIFIED:20240521T154843Z
UID:10009763-1884855600-1884859200@bazilikabudapest.hu
SUMMARY:KERESZTELŐK (BAZILIKÁBAN)
DESCRIPTION:
URL:https://bazilikabudapest.hu/esemenyek/keresztelok-bazilikaban/2029-09-23/
END:VEVENT
BEGIN:VEVENT
DTSTART;TZID=Europe/Budapest:20290930T110000
DTEND;TZID=Europe/Budapest:20290930T120000
DTSTAMP:20260423T131209
CREATED:20240521T154843Z
LAST-MODIFIED:20240521T154843Z
UID:10009764-1885460400-1885464000@bazilikabudapest.hu
SUMMARY:KERESZTELŐK (BAZILIKÁBAN)
DESCRIPTION:
URL:https://bazilikabudapest.hu/esemenyek/keresztelok-bazilikaban/2029-09-30/
END:VEVENT
BEGIN:VEVENT
DTSTART;TZID=Europe/Budapest:20291007T110000
DTEND;TZID=Europe/Budapest:20291007T120000
DTSTAMP:20260423T131209
CREATED:20240521T154843Z
LAST-MODIFIED:20240521T154843Z
UID:10009765-1886065200-1886068800@bazilikabudapest.hu
SUMMARY:KERESZTELŐK (BAZILIKÁBAN)
DESCRIPTION:
URL:https://bazilikabudapest.hu/esemenyek/keresztelok-bazilikaban/2029-10-07/
END:VEVENT
BEGIN:VEVENT
DTSTART;TZID=Europe/Budapest:20291014T110000
DTEND;TZID=Europe/Budapest:20291014T120000
DTSTAMP:20260423T131209
CREATED:20240521T154843Z
LAST-MODIFIED:20240521T154843Z
UID:10009766-1886670000-1886673600@bazilikabudapest.hu
SUMMARY:KERESZTELŐK (BAZILIKÁBAN)
DESCRIPTION:
URL:https://bazilikabudapest.hu/esemenyek/keresztelok-bazilikaban/2029-10-14/
END:VEVENT
BEGIN:VEVENT
DTSTART;TZID=Europe/Budapest:20291021T110000
DTEND;TZID=Europe/Budapest:20291021T120000
DTSTAMP:20260423T131209
CREATED:20240521T154843Z
LAST-MODIFIED:20240521T154843Z
UID:10009767-1887274800-1887278400@bazilikabudapest.hu
SUMMARY:KERESZTELŐK (BAZILIKÁBAN)
DESCRIPTION:
URL:https://bazilikabudapest.hu/esemenyek/keresztelok-bazilikaban/2029-10-21/
END:VEVENT
BEGIN:VEVENT
DTSTART;TZID=Europe/Budapest:20291028T110000
DTEND;TZID=Europe/Budapest:20291028T120000
DTSTAMP:20260423T131209
CREATED:20240521T154843Z
LAST-MODIFIED:20240521T154843Z
UID:10009768-1887879600-1887883200@bazilikabudapest.hu
SUMMARY:KERESZTELŐK (BAZILIKÁBAN)
DESCRIPTION:
URL:https://bazilikabudapest.hu/esemenyek/keresztelok-bazilikaban/2029-10-28/
END:VEVENT
BEGIN:VEVENT
DTSTART;TZID=Europe/Budapest:20291104T110000
DTEND;TZID=Europe/Budapest:20291104T120000
DTSTAMP:20260423T131209
CREATED:20240521T154843Z
LAST-MODIFIED:20240521T154843Z
UID:10009769-1888484400-1888488000@bazilikabudapest.hu
SUMMARY:KERESZTELŐK (BAZILIKÁBAN)
DESCRIPTION:
URL:https://bazilikabudapest.hu/esemenyek/keresztelok-bazilikaban/2029-11-04/
END:VEVENT
BEGIN:VEVENT
DTSTART;TZID=Europe/Budapest:20291111T110000
DTEND;TZID=Europe/Budapest:20291111T120000
DTSTAMP:20260423T131209
CREATED:20240521T154843Z
LAST-MODIFIED:20240521T154843Z
UID:10009770-1889089200-1889092800@bazilikabudapest.hu
SUMMARY:KERESZTELŐK (BAZILIKÁBAN)
DESCRIPTION:
URL:https://bazilikabudapest.hu/esemenyek/keresztelok-bazilikaban/2029-11-11/
END:VEVENT
BEGIN:VEVENT
DTSTART;TZID=Europe/Budapest:20291118T110000
DTEND;TZID=Europe/Budapest:20291118T120000
DTSTAMP:20260423T131209
CREATED:20240521T154843Z
LAST-MODIFIED:20240521T154843Z
UID:10009771-1889694000-1889697600@bazilikabudapest.hu
SUMMARY:KERESZTELŐK (BAZILIKÁBAN)
DESCRIPTION:
URL:https://bazilikabudapest.hu/esemenyek/keresztelok-bazilikaban/2029-11-18/
END:VEVENT
BEGIN:VEVENT
DTSTART;TZID=Europe/Budapest:20291125T110000
DTEND;TZID=Europe/Budapest:20291125T120000
DTSTAMP:20260423T131209
CREATED:20240521T154843Z
LAST-MODIFIED:20240521T154843Z
UID:10009772-1890298800-1890302400@bazilikabudapest.hu
SUMMARY:KERESZTELŐK (BAZILIKÁBAN)
DESCRIPTION:
URL:https://bazilikabudapest.hu/esemenyek/keresztelok-bazilikaban/2029-11-25/
END:VEVENT
BEGIN:VEVENT
DTSTART;TZID=Europe/Budapest:20291202T110000
DTEND;TZID=Europe/Budapest:20291202T120000
DTSTAMP:20260423T131209
CREATED:20240521T154843Z
LAST-MODIFIED:20240521T154843Z
UID:10009773-1890903600-1890907200@bazilikabudapest.hu
SUMMARY:KERESZTELŐK (BAZILIKÁBAN)
DESCRIPTION:
URL:https://bazilikabudapest.hu/esemenyek/keresztelok-bazilikaban/2029-12-02/
END:VEVENT
BEGIN:VEVENT
DTSTART;TZID=Europe/Budapest:20291209T110000
DTEND;TZID=Europe/Budapest:20291209T120000
DTSTAMP:20260423T131209
CREATED:20240521T154843Z
LAST-MODIFIED:20240521T154843Z
UID:10009774-1891508400-1891512000@bazilikabudapest.hu
SUMMARY:KERESZTELŐK (BAZILIKÁBAN)
DESCRIPTION:
URL:https://bazilikabudapest.hu/esemenyek/keresztelok-bazilikaban/2029-12-09/
END:VEVENT
BEGIN:VEVENT
DTSTART;TZID=Europe/Budapest:20291216T110000
DTEND;TZID=Europe/Budapest:20291216T120000
DTSTAMP:20260423T131209
CREATED:20240521T154843Z
LAST-MODIFIED:20240521T154843Z
UID:10009775-1892113200-1892116800@bazilikabudapest.hu
SUMMARY:KERESZTELŐK (BAZILIKÁBAN)
DESCRIPTION:
URL:https://bazilikabudapest.hu/esemenyek/keresztelok-bazilikaban/2029-12-16/
END:VEVENT
BEGIN:VEVENT
DTSTART;TZID=Europe/Budapest:20291223T110000
DTEND;TZID=Europe/Budapest:20291223T120000
DTSTAMP:20260423T131209
CREATED:20240521T154843Z
LAST-MODIFIED:20240521T154843Z
UID:10009776-1892718000-1892721600@bazilikabudapest.hu
SUMMARY:KERESZTELŐK (BAZILIKÁBAN)
DESCRIPTION:
URL:https://bazilikabudapest.hu/esemenyek/keresztelok-bazilikaban/2029-12-23/
END:VEVENT
BEGIN:VEVENT
DTSTART;TZID=Europe/Budapest:20291230T110000
DTEND;TZID=Europe/Budapest:20291230T120000
DTSTAMP:20260423T131209
CREATED:20240521T154843Z
LAST-MODIFIED:20240521T154843Z
UID:10009777-1893322800-1893326400@bazilikabudapest.hu
SUMMARY:KERESZTELŐK (BAZILIKÁBAN)
DESCRIPTION:
URL:https://bazilikabudapest.hu/esemenyek/keresztelok-bazilikaban/2029-12-30/
END:VEVENT
BEGIN:VEVENT
DTSTART;TZID=Europe/Budapest:20300106T110000
DTEND;TZID=Europe/Budapest:20300106T120000
DTSTAMP:20260423T131209
CREATED:20240521T154843Z
LAST-MODIFIED:20240521T154843Z
UID:10009778-1893927600-1893931200@bazilikabudapest.hu
SUMMARY:KERESZTELŐK (BAZILIKÁBAN)
DESCRIPTION:
URL:https://bazilikabudapest.hu/esemenyek/keresztelok-bazilikaban/2030-01-06/
END:VEVENT
BEGIN:VEVENT
DTSTART;TZID=Europe/Budapest:20300113T110000
DTEND;TZID=Europe/Budapest:20300113T120000
DTSTAMP:20260423T131209
CREATED:20240521T154843Z
LAST-MODIFIED:20240521T154843Z
UID:10009779-1894532400-1894536000@bazilikabudapest.hu
SUMMARY:KERESZTELŐK (BAZILIKÁBAN)
DESCRIPTION:
URL:https://bazilikabudapest.hu/esemenyek/keresztelok-bazilikaban/2030-01-13/
END:VEVENT
BEGIN:VEVENT
DTSTART;TZID=Europe/Budapest:20300120T110000
DTEND;TZID=Europe/Budapest:20300120T120000
DTSTAMP:20260423T131209
CREATED:20240521T154843Z
LAST-MODIFIED:20240521T154843Z
UID:10009780-1895137200-1895140800@bazilikabudapest.hu
SUMMARY:KERESZTELŐK (BAZILIKÁBAN)
DESCRIPTION:
URL:https://bazilikabudapest.hu/esemenyek/keresztelok-bazilikaban/2030-01-20/
END:VEVENT
BEGIN:VEVENT
DTSTART;TZID=Europe/Budapest:20300127T110000
DTEND;TZID=Europe/Budapest:20300127T120000
DTSTAMP:20260423T131209
CREATED:20240521T154843Z
LAST-MODIFIED:20240521T154843Z
UID:10009781-1895742000-1895745600@bazilikabudapest.hu
SUMMARY:KERESZTELŐK (BAZILIKÁBAN)
DESCRIPTION:
URL:https://bazilikabudapest.hu/esemenyek/keresztelok-bazilikaban/2030-01-27/
END:VEVENT
BEGIN:VEVENT
DTSTART;TZID=Europe/Budapest:20300203T110000
DTEND;TZID=Europe/Budapest:20300203T120000
DTSTAMP:20260423T131209
CREATED:20240521T154843Z
LAST-MODIFIED:20240521T154843Z
UID:10009782-1896346800-1896350400@bazilikabudapest.hu
SUMMARY:KERESZTELŐK (BAZILIKÁBAN)
DESCRIPTION:
URL:https://bazilikabudapest.hu/esemenyek/keresztelok-bazilikaban/2030-02-03/
END:VEVENT
END:VCALENDAR