BEGIN:VCALENDAR
VERSION:2.0
PRODID:-//Szent István Bazilika - Budapest - ECPv6.11.2.1//NONSGML v1.0//EN
CALSCALE:GREGORIAN
METHOD:PUBLISH
X-WR-CALNAME:Szent István Bazilika - Budapest
X-ORIGINAL-URL:https://bazilikabudapest.hu
X-WR-CALDESC:Events for Szent István Bazilika - Budapest
REFRESH-INTERVAL;VALUE=DURATION:PT1H
X-Robots-Tag:noindex
X-PUBLISHED-TTL:PT1H
BEGIN:VTIMEZONE
TZID:Europe/Budapest
BEGIN:DAYLIGHT
TZOFFSETFROM:+0100
TZOFFSETTO:+0200
TZNAME:CEST
DTSTART:20290325T010000
END:DAYLIGHT
BEGIN:STANDARD
TZOFFSETFROM:+0200
TZOFFSETTO:+0100
TZNAME:CET
DTSTART:20291028T010000
END:STANDARD
BEGIN:DAYLIGHT
TZOFFSETFROM:+0100
TZOFFSETTO:+0200
TZNAME:CEST
DTSTART:20300331T010000
END:DAYLIGHT
BEGIN:STANDARD
TZOFFSETFROM:+0200
TZOFFSETTO:+0100
TZNAME:CET
DTSTART:20301027T010000
END:STANDARD
END:VTIMEZONE
BEGIN:VEVENT
DTSTART;TZID=Europe/Budapest:20291230T110000
DTEND;TZID=Europe/Budapest:20291230T120000
DTSTAMP:20260423T163129
CREATED:20240521T154843Z
LAST-MODIFIED:20240521T154843Z
UID:10009777-1893322800-1893326400@bazilikabudapest.hu
SUMMARY:KERESZTELŐK (BAZILIKÁBAN)
DESCRIPTION:
URL:https://bazilikabudapest.hu/esemenyek/keresztelok-bazilikaban/2029-12-30/
END:VEVENT
BEGIN:VEVENT
DTSTART;TZID=Europe/Budapest:20300106T110000
DTEND;TZID=Europe/Budapest:20300106T120000
DTSTAMP:20260423T163129
CREATED:20240521T154843Z
LAST-MODIFIED:20240521T154843Z
UID:10009778-1893927600-1893931200@bazilikabudapest.hu
SUMMARY:KERESZTELŐK (BAZILIKÁBAN)
DESCRIPTION:
URL:https://bazilikabudapest.hu/esemenyek/keresztelok-bazilikaban/2030-01-06/
END:VEVENT
BEGIN:VEVENT
DTSTART;TZID=Europe/Budapest:20300113T110000
DTEND;TZID=Europe/Budapest:20300113T120000
DTSTAMP:20260423T163129
CREATED:20240521T154843Z
LAST-MODIFIED:20240521T154843Z
UID:10009779-1894532400-1894536000@bazilikabudapest.hu
SUMMARY:KERESZTELŐK (BAZILIKÁBAN)
DESCRIPTION:
URL:https://bazilikabudapest.hu/esemenyek/keresztelok-bazilikaban/2030-01-13/
END:VEVENT
BEGIN:VEVENT
DTSTART;TZID=Europe/Budapest:20300120T110000
DTEND;TZID=Europe/Budapest:20300120T120000
DTSTAMP:20260423T163129
CREATED:20240521T154843Z
LAST-MODIFIED:20240521T154843Z
UID:10009780-1895137200-1895140800@bazilikabudapest.hu
SUMMARY:KERESZTELŐK (BAZILIKÁBAN)
DESCRIPTION:
URL:https://bazilikabudapest.hu/esemenyek/keresztelok-bazilikaban/2030-01-20/
END:VEVENT
BEGIN:VEVENT
DTSTART;TZID=Europe/Budapest:20300127T110000
DTEND;TZID=Europe/Budapest:20300127T120000
DTSTAMP:20260423T163129
CREATED:20240521T154843Z
LAST-MODIFIED:20240521T154843Z
UID:10009781-1895742000-1895745600@bazilikabudapest.hu
SUMMARY:KERESZTELŐK (BAZILIKÁBAN)
DESCRIPTION:
URL:https://bazilikabudapest.hu/esemenyek/keresztelok-bazilikaban/2030-01-27/
END:VEVENT
BEGIN:VEVENT
DTSTART;TZID=Europe/Budapest:20300203T110000
DTEND;TZID=Europe/Budapest:20300203T120000
DTSTAMP:20260423T163129
CREATED:20240521T154843Z
LAST-MODIFIED:20240521T154843Z
UID:10009782-1896346800-1896350400@bazilikabudapest.hu
SUMMARY:KERESZTELŐK (BAZILIKÁBAN)
DESCRIPTION:
URL:https://bazilikabudapest.hu/esemenyek/keresztelok-bazilikaban/2030-02-03/
END:VEVENT
BEGIN:VEVENT
DTSTART;TZID=Europe/Budapest:20300210T110000
DTEND;TZID=Europe/Budapest:20300210T120000
DTSTAMP:20260423T163129
CREATED:20240521T154843Z
LAST-MODIFIED:20240521T154843Z
UID:10009783-1896951600-1896955200@bazilikabudapest.hu
SUMMARY:KERESZTELŐK (BAZILIKÁBAN)
DESCRIPTION:
URL:https://bazilikabudapest.hu/esemenyek/keresztelok-bazilikaban/2030-02-10/
END:VEVENT
BEGIN:VEVENT
DTSTART;TZID=Europe/Budapest:20300217T110000
DTEND;TZID=Europe/Budapest:20300217T120000
DTSTAMP:20260423T163129
CREATED:20240521T154843Z
LAST-MODIFIED:20240521T154843Z
UID:10009784-1897556400-1897560000@bazilikabudapest.hu
SUMMARY:KERESZTELŐK (BAZILIKÁBAN)
DESCRIPTION:
URL:https://bazilikabudapest.hu/esemenyek/keresztelok-bazilikaban/2030-02-17/
END:VEVENT
BEGIN:VEVENT
DTSTART;TZID=Europe/Budapest:20300224T110000
DTEND;TZID=Europe/Budapest:20300224T120000
DTSTAMP:20260423T163129
CREATED:20240521T154843Z
LAST-MODIFIED:20240521T154843Z
UID:10009785-1898161200-1898164800@bazilikabudapest.hu
SUMMARY:KERESZTELŐK (BAZILIKÁBAN)
DESCRIPTION:
URL:https://bazilikabudapest.hu/esemenyek/keresztelok-bazilikaban/2030-02-24/
END:VEVENT
BEGIN:VEVENT
DTSTART;TZID=Europe/Budapest:20300303T110000
DTEND;TZID=Europe/Budapest:20300303T120000
DTSTAMP:20260423T163129
CREATED:20240521T154843Z
LAST-MODIFIED:20240521T154843Z
UID:10009786-1898766000-1898769600@bazilikabudapest.hu
SUMMARY:KERESZTELŐK (BAZILIKÁBAN)
DESCRIPTION:
URL:https://bazilikabudapest.hu/esemenyek/keresztelok-bazilikaban/2030-03-03/
END:VEVENT
BEGIN:VEVENT
DTSTART;TZID=Europe/Budapest:20300310T110000
DTEND;TZID=Europe/Budapest:20300310T120000
DTSTAMP:20260423T163129
CREATED:20240521T154843Z
LAST-MODIFIED:20240521T154843Z
UID:10009787-1899370800-1899374400@bazilikabudapest.hu
SUMMARY:KERESZTELŐK (BAZILIKÁBAN)
DESCRIPTION:
URL:https://bazilikabudapest.hu/esemenyek/keresztelok-bazilikaban/2030-03-10/
END:VEVENT
BEGIN:VEVENT
DTSTART;TZID=Europe/Budapest:20300317T110000
DTEND;TZID=Europe/Budapest:20300317T120000
DTSTAMP:20260423T163129
CREATED:20240521T154843Z
LAST-MODIFIED:20240521T154843Z
UID:10009788-1899975600-1899979200@bazilikabudapest.hu
SUMMARY:KERESZTELŐK (BAZILIKÁBAN)
DESCRIPTION:
URL:https://bazilikabudapest.hu/esemenyek/keresztelok-bazilikaban/2030-03-17/
END:VEVENT
BEGIN:VEVENT
DTSTART;TZID=Europe/Budapest:20300324T110000
DTEND;TZID=Europe/Budapest:20300324T120000
DTSTAMP:20260423T163129
CREATED:20240521T154843Z
LAST-MODIFIED:20240521T154843Z
UID:10009789-1900580400-1900584000@bazilikabudapest.hu
SUMMARY:KERESZTELŐK (BAZILIKÁBAN)
DESCRIPTION:
URL:https://bazilikabudapest.hu/esemenyek/keresztelok-bazilikaban/2030-03-24/
END:VEVENT
BEGIN:VEVENT
DTSTART;TZID=Europe/Budapest:20300331T110000
DTEND;TZID=Europe/Budapest:20300331T120000
DTSTAMP:20260423T163129
CREATED:20240521T154843Z
LAST-MODIFIED:20240521T154843Z
UID:10009790-1901185200-1901188800@bazilikabudapest.hu
SUMMARY:KERESZTELŐK (BAZILIKÁBAN)
DESCRIPTION:
URL:https://bazilikabudapest.hu/esemenyek/keresztelok-bazilikaban/2030-03-31/
END:VEVENT
BEGIN:VEVENT
DTSTART;TZID=Europe/Budapest:20300407T110000
DTEND;TZID=Europe/Budapest:20300407T120000
DTSTAMP:20260423T163129
CREATED:20240521T154843Z
LAST-MODIFIED:20240521T154843Z
UID:10009791-1901790000-1901793600@bazilikabudapest.hu
SUMMARY:KERESZTELŐK (BAZILIKÁBAN)
DESCRIPTION:
URL:https://bazilikabudapest.hu/esemenyek/keresztelok-bazilikaban/2030-04-07/
END:VEVENT
BEGIN:VEVENT
DTSTART;TZID=Europe/Budapest:20300414T110000
DTEND;TZID=Europe/Budapest:20300414T120000
DTSTAMP:20260423T163129
CREATED:20240521T154843Z
LAST-MODIFIED:20240521T154843Z
UID:10009792-1902394800-1902398400@bazilikabudapest.hu
SUMMARY:KERESZTELŐK (BAZILIKÁBAN)
DESCRIPTION:
URL:https://bazilikabudapest.hu/esemenyek/keresztelok-bazilikaban/2030-04-14/
END:VEVENT
BEGIN:VEVENT
DTSTART;TZID=Europe/Budapest:20300421T110000
DTEND;TZID=Europe/Budapest:20300421T120000
DTSTAMP:20260423T163129
CREATED:20240521T154843Z
LAST-MODIFIED:20240521T154843Z
UID:10009793-1902999600-1903003200@bazilikabudapest.hu
SUMMARY:KERESZTELŐK (BAZILIKÁBAN)
DESCRIPTION:
URL:https://bazilikabudapest.hu/esemenyek/keresztelok-bazilikaban/2030-04-21/
END:VEVENT
BEGIN:VEVENT
DTSTART;TZID=Europe/Budapest:20300428T110000
DTEND;TZID=Europe/Budapest:20300428T120000
DTSTAMP:20260423T163129
CREATED:20240521T154843Z
LAST-MODIFIED:20240521T154843Z
UID:10009794-1903604400-1903608000@bazilikabudapest.hu
SUMMARY:KERESZTELŐK (BAZILIKÁBAN)
DESCRIPTION:
URL:https://bazilikabudapest.hu/esemenyek/keresztelok-bazilikaban/2030-04-28/
END:VEVENT
BEGIN:VEVENT
DTSTART;TZID=Europe/Budapest:20300505T110000
DTEND;TZID=Europe/Budapest:20300505T120000
DTSTAMP:20260423T163129
CREATED:20240521T154843Z
LAST-MODIFIED:20240521T154843Z
UID:10009795-1904209200-1904212800@bazilikabudapest.hu
SUMMARY:KERESZTELŐK (BAZILIKÁBAN)
DESCRIPTION:
URL:https://bazilikabudapest.hu/esemenyek/keresztelok-bazilikaban/2030-05-05/
END:VEVENT
BEGIN:VEVENT
DTSTART;TZID=Europe/Budapest:20300512T110000
DTEND;TZID=Europe/Budapest:20300512T120000
DTSTAMP:20260423T163129
CREATED:20240521T154843Z
LAST-MODIFIED:20240521T154843Z
UID:10009796-1904814000-1904817600@bazilikabudapest.hu
SUMMARY:KERESZTELŐK (BAZILIKÁBAN)
DESCRIPTION:
URL:https://bazilikabudapest.hu/esemenyek/keresztelok-bazilikaban/2030-05-12/
END:VEVENT
BEGIN:VEVENT
DTSTART;TZID=Europe/Budapest:20300519T110000
DTEND;TZID=Europe/Budapest:20300519T120000
DTSTAMP:20260423T163129
CREATED:20240521T154843Z
LAST-MODIFIED:20240521T154843Z
UID:10009797-1905418800-1905422400@bazilikabudapest.hu
SUMMARY:KERESZTELŐK (BAZILIKÁBAN)
DESCRIPTION:
URL:https://bazilikabudapest.hu/esemenyek/keresztelok-bazilikaban/2030-05-19/
END:VEVENT
BEGIN:VEVENT
DTSTART;TZID=Europe/Budapest:20300526T110000
DTEND;TZID=Europe/Budapest:20300526T120000
DTSTAMP:20260423T163129
CREATED:20240521T154843Z
LAST-MODIFIED:20240521T154843Z
UID:10009798-1906023600-1906027200@bazilikabudapest.hu
SUMMARY:KERESZTELŐK (BAZILIKÁBAN)
DESCRIPTION:
URL:https://bazilikabudapest.hu/esemenyek/keresztelok-bazilikaban/2030-05-26/
END:VEVENT
BEGIN:VEVENT
DTSTART;TZID=Europe/Budapest:20300602T110000
DTEND;TZID=Europe/Budapest:20300602T120000
DTSTAMP:20260423T163129
CREATED:20240521T154843Z
LAST-MODIFIED:20240521T154843Z
UID:10009799-1906628400-1906632000@bazilikabudapest.hu
SUMMARY:KERESZTELŐK (BAZILIKÁBAN)
DESCRIPTION:
URL:https://bazilikabudapest.hu/esemenyek/keresztelok-bazilikaban/2030-06-02/
END:VEVENT
BEGIN:VEVENT
DTSTART;TZID=Europe/Budapest:20300609T110000
DTEND;TZID=Europe/Budapest:20300609T120000
DTSTAMP:20260423T163129
CREATED:20240521T154843Z
LAST-MODIFIED:20240521T154843Z
UID:10009800-1907233200-1907236800@bazilikabudapest.hu
SUMMARY:KERESZTELŐK (BAZILIKÁBAN)
DESCRIPTION:
URL:https://bazilikabudapest.hu/esemenyek/keresztelok-bazilikaban/2030-06-09/
END:VEVENT
END:VCALENDAR