BEGIN:VCALENDAR
VERSION:2.0
PRODID:-//Szent István Bazilika - Budapest - ECPv6.11.2.1//NONSGML v1.0//EN
CALSCALE:GREGORIAN
METHOD:PUBLISH
X-WR-CALNAME:Szent István Bazilika - Budapest
X-ORIGINAL-URL:https://bazilikabudapest.hu
X-WR-CALDESC:Events for Szent István Bazilika - Budapest
REFRESH-INTERVAL;VALUE=DURATION:PT1H
X-Robots-Tag:noindex
X-PUBLISHED-TTL:PT1H
BEGIN:VTIMEZONE
TZID:Europe/Budapest
BEGIN:DAYLIGHT
TZOFFSETFROM:+0100
TZOFFSETTO:+0200
TZNAME:CEST
DTSTART:20270328T010000
END:DAYLIGHT
BEGIN:STANDARD
TZOFFSETFROM:+0200
TZOFFSETTO:+0100
TZNAME:CET
DTSTART:20271031T010000
END:STANDARD
END:VTIMEZONE
BEGIN:VEVENT
DTSTART;TZID=Europe/Budapest:20270327T180000
DTEND;TZID=Europe/Budapest:20270327T183000
DTSTAMP:20260423T131521
CREATED:20240521T135245Z
LAST-MODIFIED:20240521T135245Z
UID:10004445-1806170400-1806172200@bazilikabudapest.hu
SUMMARY:SZENTMISE - VASÁRNAP ELŐESTI (BAZILIKA)
DESCRIPTION:
URL:https://bazilikabudapest.hu/esemenyek/szentmise-vasarnap-eloesti-bazilika/2027-03-27/
END:VEVENT
BEGIN:VEVENT
DTSTART;TZID=Europe/Budapest:20270403T180000
DTEND;TZID=Europe/Budapest:20270403T183000
DTSTAMP:20260423T131521
CREATED:20240521T135245Z
LAST-MODIFIED:20240521T135245Z
UID:10004446-1806775200-1806777000@bazilikabudapest.hu
SUMMARY:SZENTMISE - VASÁRNAP ELŐESTI (BAZILIKA)
DESCRIPTION:
URL:https://bazilikabudapest.hu/esemenyek/szentmise-vasarnap-eloesti-bazilika/2027-04-03/
END:VEVENT
BEGIN:VEVENT
DTSTART;TZID=Europe/Budapest:20270410T180000
DTEND;TZID=Europe/Budapest:20270410T183000
DTSTAMP:20260423T131521
CREATED:20240521T135245Z
LAST-MODIFIED:20240521T135245Z
UID:10004447-1807380000-1807381800@bazilikabudapest.hu
SUMMARY:SZENTMISE - VASÁRNAP ELŐESTI (BAZILIKA)
DESCRIPTION:
URL:https://bazilikabudapest.hu/esemenyek/szentmise-vasarnap-eloesti-bazilika/2027-04-10/
END:VEVENT
BEGIN:VEVENT
DTSTART;TZID=Europe/Budapest:20270417T180000
DTEND;TZID=Europe/Budapest:20270417T183000
DTSTAMP:20260423T131521
CREATED:20240521T135245Z
LAST-MODIFIED:20240521T135245Z
UID:10004448-1807984800-1807986600@bazilikabudapest.hu
SUMMARY:SZENTMISE - VASÁRNAP ELŐESTI (BAZILIKA)
DESCRIPTION:
URL:https://bazilikabudapest.hu/esemenyek/szentmise-vasarnap-eloesti-bazilika/2027-04-17/
END:VEVENT
BEGIN:VEVENT
DTSTART;TZID=Europe/Budapest:20270424T180000
DTEND;TZID=Europe/Budapest:20270424T183000
DTSTAMP:20260423T131521
CREATED:20240521T135245Z
LAST-MODIFIED:20240521T135245Z
UID:10004449-1808589600-1808591400@bazilikabudapest.hu
SUMMARY:SZENTMISE - VASÁRNAP ELŐESTI (BAZILIKA)
DESCRIPTION:
URL:https://bazilikabudapest.hu/esemenyek/szentmise-vasarnap-eloesti-bazilika/2027-04-24/
END:VEVENT
BEGIN:VEVENT
DTSTART;TZID=Europe/Budapest:20270501T180000
DTEND;TZID=Europe/Budapest:20270501T183000
DTSTAMP:20260423T131521
CREATED:20240521T135245Z
LAST-MODIFIED:20240521T135245Z
UID:10004450-1809194400-1809196200@bazilikabudapest.hu
SUMMARY:SZENTMISE - VASÁRNAP ELŐESTI (BAZILIKA)
DESCRIPTION:
URL:https://bazilikabudapest.hu/esemenyek/szentmise-vasarnap-eloesti-bazilika/2027-05-01/
END:VEVENT
BEGIN:VEVENT
DTSTART;TZID=Europe/Budapest:20270508T180000
DTEND;TZID=Europe/Budapest:20270508T183000
DTSTAMP:20260423T131521
CREATED:20240521T135245Z
LAST-MODIFIED:20240521T135245Z
UID:10004451-1809799200-1809801000@bazilikabudapest.hu
SUMMARY:SZENTMISE - VASÁRNAP ELŐESTI (BAZILIKA)
DESCRIPTION:
URL:https://bazilikabudapest.hu/esemenyek/szentmise-vasarnap-eloesti-bazilika/2027-05-08/
END:VEVENT
BEGIN:VEVENT
DTSTART;TZID=Europe/Budapest:20270515T180000
DTEND;TZID=Europe/Budapest:20270515T183000
DTSTAMP:20260423T131521
CREATED:20240521T135245Z
LAST-MODIFIED:20240521T135245Z
UID:10004452-1810404000-1810405800@bazilikabudapest.hu
SUMMARY:SZENTMISE - VASÁRNAP ELŐESTI (BAZILIKA)
DESCRIPTION:
URL:https://bazilikabudapest.hu/esemenyek/szentmise-vasarnap-eloesti-bazilika/2027-05-15/
END:VEVENT
BEGIN:VEVENT
DTSTART;TZID=Europe/Budapest:20270522T180000
DTEND;TZID=Europe/Budapest:20270522T183000
DTSTAMP:20260423T131522
CREATED:20240521T135245Z
LAST-MODIFIED:20240521T135245Z
UID:10004453-1811008800-1811010600@bazilikabudapest.hu
SUMMARY:SZENTMISE - VASÁRNAP ELŐESTI (BAZILIKA)
DESCRIPTION:
URL:https://bazilikabudapest.hu/esemenyek/szentmise-vasarnap-eloesti-bazilika/2027-05-22/
END:VEVENT
BEGIN:VEVENT
DTSTART;TZID=Europe/Budapest:20270529T180000
DTEND;TZID=Europe/Budapest:20270529T183000
DTSTAMP:20260423T131522
CREATED:20240521T135245Z
LAST-MODIFIED:20240521T135245Z
UID:10004454-1811613600-1811615400@bazilikabudapest.hu
SUMMARY:SZENTMISE - VASÁRNAP ELŐESTI (BAZILIKA)
DESCRIPTION:
URL:https://bazilikabudapest.hu/esemenyek/szentmise-vasarnap-eloesti-bazilika/2027-05-29/
END:VEVENT
BEGIN:VEVENT
DTSTART;TZID=Europe/Budapest:20270605T180000
DTEND;TZID=Europe/Budapest:20270605T183000
DTSTAMP:20260423T131522
CREATED:20240521T135245Z
LAST-MODIFIED:20240521T135245Z
UID:10004455-1812218400-1812220200@bazilikabudapest.hu
SUMMARY:SZENTMISE - VASÁRNAP ELŐESTI (BAZILIKA)
DESCRIPTION:
URL:https://bazilikabudapest.hu/esemenyek/szentmise-vasarnap-eloesti-bazilika/2027-06-05/
END:VEVENT
BEGIN:VEVENT
DTSTART;TZID=Europe/Budapest:20270612T180000
DTEND;TZID=Europe/Budapest:20270612T183000
DTSTAMP:20260423T131522
CREATED:20240521T135245Z
LAST-MODIFIED:20240521T135245Z
UID:10004456-1812823200-1812825000@bazilikabudapest.hu
SUMMARY:SZENTMISE - VASÁRNAP ELŐESTI (BAZILIKA)
DESCRIPTION:
URL:https://bazilikabudapest.hu/esemenyek/szentmise-vasarnap-eloesti-bazilika/2027-06-12/
END:VEVENT
BEGIN:VEVENT
DTSTART;TZID=Europe/Budapest:20270619T180000
DTEND;TZID=Europe/Budapest:20270619T183000
DTSTAMP:20260423T131522
CREATED:20240521T135245Z
LAST-MODIFIED:20240521T135245Z
UID:10004457-1813428000-1813429800@bazilikabudapest.hu
SUMMARY:SZENTMISE - VASÁRNAP ELŐESTI (BAZILIKA)
DESCRIPTION:
URL:https://bazilikabudapest.hu/esemenyek/szentmise-vasarnap-eloesti-bazilika/2027-06-19/
END:VEVENT
BEGIN:VEVENT
DTSTART;TZID=Europe/Budapest:20270626T180000
DTEND;TZID=Europe/Budapest:20270626T183000
DTSTAMP:20260423T131522
CREATED:20240521T135245Z
LAST-MODIFIED:20240521T135245Z
UID:10004458-1814032800-1814034600@bazilikabudapest.hu
SUMMARY:SZENTMISE - VASÁRNAP ELŐESTI (BAZILIKA)
DESCRIPTION:
URL:https://bazilikabudapest.hu/esemenyek/szentmise-vasarnap-eloesti-bazilika/2027-06-26/
END:VEVENT
BEGIN:VEVENT
DTSTART;TZID=Europe/Budapest:20270703T180000
DTEND;TZID=Europe/Budapest:20270703T183000
DTSTAMP:20260423T131522
CREATED:20240521T135245Z
LAST-MODIFIED:20240521T135245Z
UID:10004459-1814637600-1814639400@bazilikabudapest.hu
SUMMARY:SZENTMISE - VASÁRNAP ELŐESTI (BAZILIKA)
DESCRIPTION:
URL:https://bazilikabudapest.hu/esemenyek/szentmise-vasarnap-eloesti-bazilika/2027-07-03/
END:VEVENT
BEGIN:VEVENT
DTSTART;TZID=Europe/Budapest:20270710T180000
DTEND;TZID=Europe/Budapest:20270710T183000
DTSTAMP:20260423T131522
CREATED:20240521T135245Z
LAST-MODIFIED:20240521T135245Z
UID:10004460-1815242400-1815244200@bazilikabudapest.hu
SUMMARY:SZENTMISE - VASÁRNAP ELŐESTI (BAZILIKA)
DESCRIPTION:
URL:https://bazilikabudapest.hu/esemenyek/szentmise-vasarnap-eloesti-bazilika/2027-07-10/
END:VEVENT
BEGIN:VEVENT
DTSTART;TZID=Europe/Budapest:20270717T180000
DTEND;TZID=Europe/Budapest:20270717T183000
DTSTAMP:20260423T131522
CREATED:20240521T135245Z
LAST-MODIFIED:20240521T135245Z
UID:10004461-1815847200-1815849000@bazilikabudapest.hu
SUMMARY:SZENTMISE - VASÁRNAP ELŐESTI (BAZILIKA)
DESCRIPTION:
URL:https://bazilikabudapest.hu/esemenyek/szentmise-vasarnap-eloesti-bazilika/2027-07-17/
END:VEVENT
BEGIN:VEVENT
DTSTART;TZID=Europe/Budapest:20270724T180000
DTEND;TZID=Europe/Budapest:20270724T183000
DTSTAMP:20260423T131522
CREATED:20240521T135245Z
LAST-MODIFIED:20240521T135245Z
UID:10004462-1816452000-1816453800@bazilikabudapest.hu
SUMMARY:SZENTMISE - VASÁRNAP ELŐESTI (BAZILIKA)
DESCRIPTION:
URL:https://bazilikabudapest.hu/esemenyek/szentmise-vasarnap-eloesti-bazilika/2027-07-24/
END:VEVENT
BEGIN:VEVENT
DTSTART;TZID=Europe/Budapest:20270731T180000
DTEND;TZID=Europe/Budapest:20270731T183000
DTSTAMP:20260423T131522
CREATED:20240521T135245Z
LAST-MODIFIED:20240521T135245Z
UID:10004463-1817056800-1817058600@bazilikabudapest.hu
SUMMARY:SZENTMISE - VASÁRNAP ELŐESTI (BAZILIKA)
DESCRIPTION:
URL:https://bazilikabudapest.hu/esemenyek/szentmise-vasarnap-eloesti-bazilika/2027-07-31/
END:VEVENT
BEGIN:VEVENT
DTSTART;TZID=Europe/Budapest:20270807T180000
DTEND;TZID=Europe/Budapest:20270807T183000
DTSTAMP:20260423T131522
CREATED:20240521T135245Z
LAST-MODIFIED:20240521T135245Z
UID:10004464-1817661600-1817663400@bazilikabudapest.hu
SUMMARY:SZENTMISE - VASÁRNAP ELŐESTI (BAZILIKA)
DESCRIPTION:
URL:https://bazilikabudapest.hu/esemenyek/szentmise-vasarnap-eloesti-bazilika/2027-08-07/
END:VEVENT
BEGIN:VEVENT
DTSTART;TZID=Europe/Budapest:20270814T180000
DTEND;TZID=Europe/Budapest:20270814T183000
DTSTAMP:20260423T131522
CREATED:20240521T135245Z
LAST-MODIFIED:20240521T135245Z
UID:10004465-1818266400-1818268200@bazilikabudapest.hu
SUMMARY:SZENTMISE - VASÁRNAP ELŐESTI (BAZILIKA)
DESCRIPTION:
URL:https://bazilikabudapest.hu/esemenyek/szentmise-vasarnap-eloesti-bazilika/2027-08-14/
END:VEVENT
BEGIN:VEVENT
DTSTART;TZID=Europe/Budapest:20270821T180000
DTEND;TZID=Europe/Budapest:20270821T183000
DTSTAMP:20260423T131522
CREATED:20240521T135245Z
LAST-MODIFIED:20240521T135245Z
UID:10004466-1818871200-1818873000@bazilikabudapest.hu
SUMMARY:SZENTMISE - VASÁRNAP ELŐESTI (BAZILIKA)
DESCRIPTION:
URL:https://bazilikabudapest.hu/esemenyek/szentmise-vasarnap-eloesti-bazilika/2027-08-21/
END:VEVENT
BEGIN:VEVENT
DTSTART;TZID=Europe/Budapest:20270828T180000
DTEND;TZID=Europe/Budapest:20270828T183000
DTSTAMP:20260423T131522
CREATED:20240521T135245Z
LAST-MODIFIED:20240521T135245Z
UID:10004467-1819476000-1819477800@bazilikabudapest.hu
SUMMARY:SZENTMISE - VASÁRNAP ELŐESTI (BAZILIKA)
DESCRIPTION:
URL:https://bazilikabudapest.hu/esemenyek/szentmise-vasarnap-eloesti-bazilika/2027-08-28/
END:VEVENT
BEGIN:VEVENT
DTSTART;TZID=Europe/Budapest:20270904T180000
DTEND;TZID=Europe/Budapest:20270904T183000
DTSTAMP:20260423T131522
CREATED:20240521T135245Z
LAST-MODIFIED:20240521T135245Z
UID:10004468-1820080800-1820082600@bazilikabudapest.hu
SUMMARY:SZENTMISE - VASÁRNAP ELŐESTI (BAZILIKA)
DESCRIPTION:
URL:https://bazilikabudapest.hu/esemenyek/szentmise-vasarnap-eloesti-bazilika/2027-09-04/
END:VEVENT
BEGIN:VEVENT
DTSTART;TZID=Europe/Budapest:20270911T180000
DTEND;TZID=Europe/Budapest:20270911T183000
DTSTAMP:20260423T131522
CREATED:20240521T135245Z
LAST-MODIFIED:20240521T135245Z
UID:10004469-1820685600-1820687400@bazilikabudapest.hu
SUMMARY:SZENTMISE - VASÁRNAP ELŐESTI (BAZILIKA)
DESCRIPTION:
URL:https://bazilikabudapest.hu/esemenyek/szentmise-vasarnap-eloesti-bazilika/2027-09-11/
END:VEVENT
BEGIN:VEVENT
DTSTART;TZID=Europe/Budapest:20270918T180000
DTEND;TZID=Europe/Budapest:20270918T183000
DTSTAMP:20260423T131522
CREATED:20240521T135245Z
LAST-MODIFIED:20240521T135245Z
UID:10004470-1821290400-1821292200@bazilikabudapest.hu
SUMMARY:SZENTMISE - VASÁRNAP ELŐESTI (BAZILIKA)
DESCRIPTION:
URL:https://bazilikabudapest.hu/esemenyek/szentmise-vasarnap-eloesti-bazilika/2027-09-18/
END:VEVENT
BEGIN:VEVENT
DTSTART;TZID=Europe/Budapest:20270925T180000
DTEND;TZID=Europe/Budapest:20270925T183000
DTSTAMP:20260423T131522
CREATED:20240521T135245Z
LAST-MODIFIED:20240521T135245Z
UID:10004471-1821895200-1821897000@bazilikabudapest.hu
SUMMARY:SZENTMISE - VASÁRNAP ELŐESTI (BAZILIKA)
DESCRIPTION:
URL:https://bazilikabudapest.hu/esemenyek/szentmise-vasarnap-eloesti-bazilika/2027-09-25/
END:VEVENT
BEGIN:VEVENT
DTSTART;TZID=Europe/Budapest:20271002T180000
DTEND;TZID=Europe/Budapest:20271002T183000
DTSTAMP:20260423T131522
CREATED:20240521T135245Z
LAST-MODIFIED:20240521T135245Z
UID:10004472-1822500000-1822501800@bazilikabudapest.hu
SUMMARY:SZENTMISE - VASÁRNAP ELŐESTI (BAZILIKA)
DESCRIPTION:
URL:https://bazilikabudapest.hu/esemenyek/szentmise-vasarnap-eloesti-bazilika/2027-10-02/
END:VEVENT
BEGIN:VEVENT
DTSTART;TZID=Europe/Budapest:20271009T180000
DTEND;TZID=Europe/Budapest:20271009T183000
DTSTAMP:20260423T131522
CREATED:20240521T135245Z
LAST-MODIFIED:20240521T135245Z
UID:10004473-1823104800-1823106600@bazilikabudapest.hu
SUMMARY:SZENTMISE - VASÁRNAP ELŐESTI (BAZILIKA)
DESCRIPTION:
URL:https://bazilikabudapest.hu/esemenyek/szentmise-vasarnap-eloesti-bazilika/2027-10-09/
END:VEVENT
BEGIN:VEVENT
DTSTART;TZID=Europe/Budapest:20271016T180000
DTEND;TZID=Europe/Budapest:20271016T183000
DTSTAMP:20260423T131522
CREATED:20240521T135245Z
LAST-MODIFIED:20240521T135245Z
UID:10004474-1823709600-1823711400@bazilikabudapest.hu
SUMMARY:SZENTMISE - VASÁRNAP ELŐESTI (BAZILIKA)
DESCRIPTION:
URL:https://bazilikabudapest.hu/esemenyek/szentmise-vasarnap-eloesti-bazilika/2027-10-16/
END:VEVENT
END:VCALENDAR