BEGIN:VCALENDAR
VERSION:2.0
PRODID:-//Szent István Bazilika - Budapest - ECPv6.11.2.1//NONSGML v1.0//EN
CALSCALE:GREGORIAN
METHOD:PUBLISH
X-ORIGINAL-URL:https://bazilikabudapest.hu
X-WR-CALDESC:Events for Szent István Bazilika - Budapest
REFRESH-INTERVAL;VALUE=DURATION:PT1H
X-Robots-Tag:noindex
X-PUBLISHED-TTL:PT1H
BEGIN:VTIMEZONE
TZID:Europe/Budapest
BEGIN:DAYLIGHT
TZOFFSETFROM:+0100
TZOFFSETTO:+0200
TZNAME:CEST
DTSTART:20270328T010000
END:DAYLIGHT
BEGIN:STANDARD
TZOFFSETFROM:+0200
TZOFFSETTO:+0100
TZNAME:CET
DTSTART:20271031T010000
END:STANDARD
BEGIN:DAYLIGHT
TZOFFSETFROM:+0100
TZOFFSETTO:+0200
TZNAME:CEST
DTSTART:20280326T010000
END:DAYLIGHT
BEGIN:STANDARD
TZOFFSETFROM:+0200
TZOFFSETTO:+0100
TZNAME:CET
DTSTART:20281029T010000
END:STANDARD
END:VTIMEZONE
BEGIN:VEVENT
DTSTART;TZID=Europe/Budapest:20271205T083000
DTEND;TZID=Europe/Budapest:20271205T090000
DTSTAMP:20260421T170727
CREATED:20240521T154641Z
LAST-MODIFIED:20240521T154641Z
UID:10006833-1827995400-1827997200@bazilikabudapest.hu
SUMMARY:SZENTMISE (BAZILIKÁBAN)
DESCRIPTION:
URL:https://bazilikabudapest.hu/esemenyek/szentmise-bazilikaban-2/2027-12-05/
END:VEVENT
BEGIN:VEVENT
DTSTART;TZID=Europe/Budapest:20271212T083000
DTEND;TZID=Europe/Budapest:20271212T090000
DTSTAMP:20260421T170727
CREATED:20240521T154641Z
LAST-MODIFIED:20240521T154641Z
UID:10006834-1828600200-1828602000@bazilikabudapest.hu
SUMMARY:SZENTMISE (BAZILIKÁBAN)
DESCRIPTION:
URL:https://bazilikabudapest.hu/esemenyek/szentmise-bazilikaban-2/2027-12-12/
END:VEVENT
BEGIN:VEVENT
DTSTART;TZID=Europe/Budapest:20271219T083000
DTEND;TZID=Europe/Budapest:20271219T090000
DTSTAMP:20260421T170727
CREATED:20240521T154641Z
LAST-MODIFIED:20240521T154641Z
UID:10006835-1829205000-1829206800@bazilikabudapest.hu
SUMMARY:SZENTMISE (BAZILIKÁBAN)
DESCRIPTION:
URL:https://bazilikabudapest.hu/esemenyek/szentmise-bazilikaban-2/2027-12-19/
END:VEVENT
BEGIN:VEVENT
DTSTART;TZID=Europe/Budapest:20271226T083000
DTEND;TZID=Europe/Budapest:20271226T090000
DTSTAMP:20260421T170727
CREATED:20240521T154641Z
LAST-MODIFIED:20240521T154641Z
UID:10006836-1829809800-1829811600@bazilikabudapest.hu
SUMMARY:SZENTMISE (BAZILIKÁBAN)
DESCRIPTION:
URL:https://bazilikabudapest.hu/esemenyek/szentmise-bazilikaban-2/2027-12-26/
END:VEVENT
BEGIN:VEVENT
DTSTART;TZID=Europe/Budapest:20280102T083000
DTEND;TZID=Europe/Budapest:20280102T090000
DTSTAMP:20260421T170727
CREATED:20240521T154641Z
LAST-MODIFIED:20240521T154641Z
UID:10006837-1830414600-1830416400@bazilikabudapest.hu
SUMMARY:SZENTMISE (BAZILIKÁBAN)
DESCRIPTION:
URL:https://bazilikabudapest.hu/esemenyek/szentmise-bazilikaban-2/2028-01-02/
END:VEVENT
BEGIN:VEVENT
DTSTART;TZID=Europe/Budapest:20280109T083000
DTEND;TZID=Europe/Budapest:20280109T090000
DTSTAMP:20260421T170727
CREATED:20240521T154641Z
LAST-MODIFIED:20240521T154641Z
UID:10006838-1831019400-1831021200@bazilikabudapest.hu
SUMMARY:SZENTMISE (BAZILIKÁBAN)
DESCRIPTION:
URL:https://bazilikabudapest.hu/esemenyek/szentmise-bazilikaban-2/2028-01-09/
END:VEVENT
BEGIN:VEVENT
DTSTART;TZID=Europe/Budapest:20280116T083000
DTEND;TZID=Europe/Budapest:20280116T090000
DTSTAMP:20260421T170727
CREATED:20240521T154641Z
LAST-MODIFIED:20240521T154641Z
UID:10006839-1831624200-1831626000@bazilikabudapest.hu
SUMMARY:SZENTMISE (BAZILIKÁBAN)
DESCRIPTION:
URL:https://bazilikabudapest.hu/esemenyek/szentmise-bazilikaban-2/2028-01-16/
END:VEVENT
BEGIN:VEVENT
DTSTART;TZID=Europe/Budapest:20280123T083000
DTEND;TZID=Europe/Budapest:20280123T090000
DTSTAMP:20260421T170727
CREATED:20240521T154641Z
LAST-MODIFIED:20240521T154641Z
UID:10006840-1832229000-1832230800@bazilikabudapest.hu
SUMMARY:SZENTMISE (BAZILIKÁBAN)
DESCRIPTION:
URL:https://bazilikabudapest.hu/esemenyek/szentmise-bazilikaban-2/2028-01-23/
END:VEVENT
BEGIN:VEVENT
DTSTART;TZID=Europe/Budapest:20280130T083000
DTEND;TZID=Europe/Budapest:20280130T090000
DTSTAMP:20260421T170727
CREATED:20240521T154641Z
LAST-MODIFIED:20240521T154641Z
UID:10006841-1832833800-1832835600@bazilikabudapest.hu
SUMMARY:SZENTMISE (BAZILIKÁBAN)
DESCRIPTION:
URL:https://bazilikabudapest.hu/esemenyek/szentmise-bazilikaban-2/2028-01-30/
END:VEVENT
BEGIN:VEVENT
DTSTART;TZID=Europe/Budapest:20280206T083000
DTEND;TZID=Europe/Budapest:20280206T090000
DTSTAMP:20260421T170727
CREATED:20240521T154641Z
LAST-MODIFIED:20240521T154641Z
UID:10006842-1833438600-1833440400@bazilikabudapest.hu
SUMMARY:SZENTMISE (BAZILIKÁBAN)
DESCRIPTION:
URL:https://bazilikabudapest.hu/esemenyek/szentmise-bazilikaban-2/2028-02-06/
END:VEVENT
BEGIN:VEVENT
DTSTART;TZID=Europe/Budapest:20280213T083000
DTEND;TZID=Europe/Budapest:20280213T090000
DTSTAMP:20260421T170727
CREATED:20240521T154641Z
LAST-MODIFIED:20240521T154641Z
UID:10006843-1834043400-1834045200@bazilikabudapest.hu
SUMMARY:SZENTMISE (BAZILIKÁBAN)
DESCRIPTION:
URL:https://bazilikabudapest.hu/esemenyek/szentmise-bazilikaban-2/2028-02-13/
END:VEVENT
BEGIN:VEVENT
DTSTART;TZID=Europe/Budapest:20280220T083000
DTEND;TZID=Europe/Budapest:20280220T090000
DTSTAMP:20260421T170727
CREATED:20240521T154641Z
LAST-MODIFIED:20240521T154641Z
UID:10006844-1834648200-1834650000@bazilikabudapest.hu
SUMMARY:SZENTMISE (BAZILIKÁBAN)
DESCRIPTION:
URL:https://bazilikabudapest.hu/esemenyek/szentmise-bazilikaban-2/2028-02-20/
END:VEVENT
BEGIN:VEVENT
DTSTART;TZID=Europe/Budapest:20280227T083000
DTEND;TZID=Europe/Budapest:20280227T090000
DTSTAMP:20260421T170727
CREATED:20240521T154641Z
LAST-MODIFIED:20240521T154641Z
UID:10006845-1835253000-1835254800@bazilikabudapest.hu
SUMMARY:SZENTMISE (BAZILIKÁBAN)
DESCRIPTION:
URL:https://bazilikabudapest.hu/esemenyek/szentmise-bazilikaban-2/2028-02-27/
END:VEVENT
BEGIN:VEVENT
DTSTART;TZID=Europe/Budapest:20280305T083000
DTEND;TZID=Europe/Budapest:20280305T090000
DTSTAMP:20260421T170727
CREATED:20240521T154641Z
LAST-MODIFIED:20240521T154641Z
UID:10006846-1835857800-1835859600@bazilikabudapest.hu
SUMMARY:SZENTMISE (BAZILIKÁBAN)
DESCRIPTION:
URL:https://bazilikabudapest.hu/esemenyek/szentmise-bazilikaban-2/2028-03-05/
END:VEVENT
BEGIN:VEVENT
DTSTART;TZID=Europe/Budapest:20280312T083000
DTEND;TZID=Europe/Budapest:20280312T090000
DTSTAMP:20260421T170727
CREATED:20240521T154641Z
LAST-MODIFIED:20240521T154641Z
UID:10006847-1836462600-1836464400@bazilikabudapest.hu
SUMMARY:SZENTMISE (BAZILIKÁBAN)
DESCRIPTION:
URL:https://bazilikabudapest.hu/esemenyek/szentmise-bazilikaban-2/2028-03-12/
END:VEVENT
BEGIN:VEVENT
DTSTART;TZID=Europe/Budapest:20280319T083000
DTEND;TZID=Europe/Budapest:20280319T090000
DTSTAMP:20260421T170727
CREATED:20240521T154641Z
LAST-MODIFIED:20240521T154641Z
UID:10006848-1837067400-1837069200@bazilikabudapest.hu
SUMMARY:SZENTMISE (BAZILIKÁBAN)
DESCRIPTION:
URL:https://bazilikabudapest.hu/esemenyek/szentmise-bazilikaban-2/2028-03-19/
END:VEVENT
BEGIN:VEVENT
DTSTART;TZID=Europe/Budapest:20280326T083000
DTEND;TZID=Europe/Budapest:20280326T090000
DTSTAMP:20260421T170727
CREATED:20240521T154641Z
LAST-MODIFIED:20240521T154641Z
UID:10006849-1837672200-1837674000@bazilikabudapest.hu
SUMMARY:SZENTMISE (BAZILIKÁBAN)
DESCRIPTION:
URL:https://bazilikabudapest.hu/esemenyek/szentmise-bazilikaban-2/2028-03-26/
END:VEVENT
BEGIN:VEVENT
DTSTART;TZID=Europe/Budapest:20280402T083000
DTEND;TZID=Europe/Budapest:20280402T090000
DTSTAMP:20260421T170727
CREATED:20240521T154641Z
LAST-MODIFIED:20240521T154641Z
UID:10006850-1838277000-1838278800@bazilikabudapest.hu
SUMMARY:SZENTMISE (BAZILIKÁBAN)
DESCRIPTION:
URL:https://bazilikabudapest.hu/esemenyek/szentmise-bazilikaban-2/2028-04-02/
END:VEVENT
BEGIN:VEVENT
DTSTART;TZID=Europe/Budapest:20280409T083000
DTEND;TZID=Europe/Budapest:20280409T090000
DTSTAMP:20260421T170727
CREATED:20240521T154641Z
LAST-MODIFIED:20240521T154641Z
UID:10006851-1838881800-1838883600@bazilikabudapest.hu
SUMMARY:SZENTMISE (BAZILIKÁBAN)
DESCRIPTION:
URL:https://bazilikabudapest.hu/esemenyek/szentmise-bazilikaban-2/2028-04-09/
END:VEVENT
BEGIN:VEVENT
DTSTART;TZID=Europe/Budapest:20280416T083000
DTEND;TZID=Europe/Budapest:20280416T090000
DTSTAMP:20260421T170727
CREATED:20240521T154641Z
LAST-MODIFIED:20240521T154641Z
UID:10006852-1839486600-1839488400@bazilikabudapest.hu
SUMMARY:SZENTMISE (BAZILIKÁBAN)
DESCRIPTION:
URL:https://bazilikabudapest.hu/esemenyek/szentmise-bazilikaban-2/2028-04-16/
END:VEVENT
BEGIN:VEVENT
DTSTART;TZID=Europe/Budapest:20280423T083000
DTEND;TZID=Europe/Budapest:20280423T090000
DTSTAMP:20260421T170727
CREATED:20240521T154641Z
LAST-MODIFIED:20240521T154641Z
UID:10006853-1840091400-1840093200@bazilikabudapest.hu
SUMMARY:SZENTMISE (BAZILIKÁBAN)
DESCRIPTION:
URL:https://bazilikabudapest.hu/esemenyek/szentmise-bazilikaban-2/2028-04-23/
END:VEVENT
BEGIN:VEVENT
DTSTART;TZID=Europe/Budapest:20280430T083000
DTEND;TZID=Europe/Budapest:20280430T090000
DTSTAMP:20260421T170727
CREATED:20240521T154641Z
LAST-MODIFIED:20240521T154641Z
UID:10006854-1840696200-1840698000@bazilikabudapest.hu
SUMMARY:SZENTMISE (BAZILIKÁBAN)
DESCRIPTION:
URL:https://bazilikabudapest.hu/esemenyek/szentmise-bazilikaban-2/2028-04-30/
END:VEVENT
BEGIN:VEVENT
DTSTART;TZID=Europe/Budapest:20280507T083000
DTEND;TZID=Europe/Budapest:20280507T090000
DTSTAMP:20260421T170728
CREATED:20240521T154641Z
LAST-MODIFIED:20240521T154641Z
UID:10006855-1841301000-1841302800@bazilikabudapest.hu
SUMMARY:SZENTMISE (BAZILIKÁBAN)
DESCRIPTION:
URL:https://bazilikabudapest.hu/esemenyek/szentmise-bazilikaban-2/2028-05-07/
END:VEVENT
BEGIN:VEVENT
DTSTART;TZID=Europe/Budapest:20280514T083000
DTEND;TZID=Europe/Budapest:20280514T090000
DTSTAMP:20260421T170728
CREATED:20240521T154641Z
LAST-MODIFIED:20240521T154641Z
UID:10006856-1841905800-1841907600@bazilikabudapest.hu
SUMMARY:SZENTMISE (BAZILIKÁBAN)
DESCRIPTION:
URL:https://bazilikabudapest.hu/esemenyek/szentmise-bazilikaban-2/2028-05-14/
END:VEVENT
BEGIN:VEVENT
DTSTART;TZID=Europe/Budapest:20280521T083000
DTEND;TZID=Europe/Budapest:20280521T090000
DTSTAMP:20260421T170728
CREATED:20240521T154641Z
LAST-MODIFIED:20240521T154641Z
UID:10006857-1842510600-1842512400@bazilikabudapest.hu
SUMMARY:SZENTMISE (BAZILIKÁBAN)
DESCRIPTION:
URL:https://bazilikabudapest.hu/esemenyek/szentmise-bazilikaban-2/2028-05-21/
END:VEVENT
BEGIN:VEVENT
DTSTART;TZID=Europe/Budapest:20280528T083000
DTEND;TZID=Europe/Budapest:20280528T090000
DTSTAMP:20260421T170728
CREATED:20240521T154641Z
LAST-MODIFIED:20240521T154641Z
UID:10006858-1843115400-1843117200@bazilikabudapest.hu
SUMMARY:SZENTMISE (BAZILIKÁBAN)
DESCRIPTION:
URL:https://bazilikabudapest.hu/esemenyek/szentmise-bazilikaban-2/2028-05-28/
END:VEVENT
BEGIN:VEVENT
DTSTART;TZID=Europe/Budapest:20280604T083000
DTEND;TZID=Europe/Budapest:20280604T090000
DTSTAMP:20260421T170728
CREATED:20240521T154641Z
LAST-MODIFIED:20240521T154641Z
UID:10006859-1843720200-1843722000@bazilikabudapest.hu
SUMMARY:SZENTMISE (BAZILIKÁBAN)
DESCRIPTION:
URL:https://bazilikabudapest.hu/esemenyek/szentmise-bazilikaban-2/2028-06-04/
END:VEVENT
BEGIN:VEVENT
DTSTART;TZID=Europe/Budapest:20280611T083000
DTEND;TZID=Europe/Budapest:20280611T090000
DTSTAMP:20260421T170728
CREATED:20240521T154641Z
LAST-MODIFIED:20240521T154641Z
UID:10006860-1844325000-1844326800@bazilikabudapest.hu
SUMMARY:SZENTMISE (BAZILIKÁBAN)
DESCRIPTION:
URL:https://bazilikabudapest.hu/esemenyek/szentmise-bazilikaban-2/2028-06-11/
END:VEVENT
BEGIN:VEVENT
DTSTART;TZID=Europe/Budapest:20280618T083000
DTEND;TZID=Europe/Budapest:20280618T090000
DTSTAMP:20260421T170728
CREATED:20240521T154641Z
LAST-MODIFIED:20240521T154641Z
UID:10006861-1844929800-1844931600@bazilikabudapest.hu
SUMMARY:SZENTMISE (BAZILIKÁBAN)
DESCRIPTION:
URL:https://bazilikabudapest.hu/esemenyek/szentmise-bazilikaban-2/2028-06-18/
END:VEVENT
BEGIN:VEVENT
DTSTART;TZID=Europe/Budapest:20280625T083000
DTEND;TZID=Europe/Budapest:20280625T090000
DTSTAMP:20260421T170728
CREATED:20240521T154641Z
LAST-MODIFIED:20240521T154641Z
UID:10006862-1845534600-1845536400@bazilikabudapest.hu
SUMMARY:SZENTMISE (BAZILIKÁBAN)
DESCRIPTION:
URL:https://bazilikabudapest.hu/esemenyek/szentmise-bazilikaban-2/2028-06-25/
END:VEVENT
END:VCALENDAR