BEGIN:VCALENDAR
VERSION:2.0
PRODID:-//Szent István Bazilika - Budapest - ECPv6.11.2.1//NONSGML v1.0//EN
CALSCALE:GREGORIAN
METHOD:PUBLISH
X-WR-CALNAME:Szent István Bazilika - Budapest
X-ORIGINAL-URL:https://bazilikabudapest.hu
X-WR-CALDESC:Events for Szent István Bazilika - Budapest
REFRESH-INTERVAL;VALUE=DURATION:PT1H
X-Robots-Tag:noindex
X-PUBLISHED-TTL:PT1H
BEGIN:VTIMEZONE
TZID:Europe/Budapest
BEGIN:DAYLIGHT
TZOFFSETFROM:+0100
TZOFFSETTO:+0200
TZNAME:CEST
DTSTART:20280326T010000
END:DAYLIGHT
BEGIN:STANDARD
TZOFFSETFROM:+0200
TZOFFSETTO:+0100
TZNAME:CET
DTSTART:20281029T010000
END:STANDARD
END:VTIMEZONE
BEGIN:VEVENT
DTSTART;TZID=Europe/Budapest:20280227T110000
DTEND;TZID=Europe/Budapest:20280227T120000
DTSTAMP:20260421T115333
CREATED:20240521T154843Z
LAST-MODIFIED:20240521T154843Z
UID:10007367-1835262000-1835265600@bazilikabudapest.hu
SUMMARY:KERESZTELŐK (BAZILIKÁBAN)
DESCRIPTION:
URL:https://bazilikabudapest.hu/esemenyek/keresztelok-bazilikaban/2028-02-27/
END:VEVENT
BEGIN:VEVENT
DTSTART;TZID=Europe/Budapest:20280305T110000
DTEND;TZID=Europe/Budapest:20280305T120000
DTSTAMP:20260421T115333
CREATED:20240521T154843Z
LAST-MODIFIED:20240521T154843Z
UID:10007368-1835866800-1835870400@bazilikabudapest.hu
SUMMARY:KERESZTELŐK (BAZILIKÁBAN)
DESCRIPTION:
URL:https://bazilikabudapest.hu/esemenyek/keresztelok-bazilikaban/2028-03-05/
END:VEVENT
BEGIN:VEVENT
DTSTART;TZID=Europe/Budapest:20280312T110000
DTEND;TZID=Europe/Budapest:20280312T120000
DTSTAMP:20260421T115333
CREATED:20240521T154843Z
LAST-MODIFIED:20240521T154843Z
UID:10007369-1836471600-1836475200@bazilikabudapest.hu
SUMMARY:KERESZTELŐK (BAZILIKÁBAN)
DESCRIPTION:
URL:https://bazilikabudapest.hu/esemenyek/keresztelok-bazilikaban/2028-03-12/
END:VEVENT
BEGIN:VEVENT
DTSTART;TZID=Europe/Budapest:20280319T110000
DTEND;TZID=Europe/Budapest:20280319T120000
DTSTAMP:20260421T115333
CREATED:20240521T154843Z
LAST-MODIFIED:20240521T154843Z
UID:10007370-1837076400-1837080000@bazilikabudapest.hu
SUMMARY:KERESZTELŐK (BAZILIKÁBAN)
DESCRIPTION:
URL:https://bazilikabudapest.hu/esemenyek/keresztelok-bazilikaban/2028-03-19/
END:VEVENT
BEGIN:VEVENT
DTSTART;TZID=Europe/Budapest:20280326T110000
DTEND;TZID=Europe/Budapest:20280326T120000
DTSTAMP:20260421T115333
CREATED:20240521T154843Z
LAST-MODIFIED:20240521T154843Z
UID:10007371-1837681200-1837684800@bazilikabudapest.hu
SUMMARY:KERESZTELŐK (BAZILIKÁBAN)
DESCRIPTION:
URL:https://bazilikabudapest.hu/esemenyek/keresztelok-bazilikaban/2028-03-26/
END:VEVENT
BEGIN:VEVENT
DTSTART;TZID=Europe/Budapest:20280402T110000
DTEND;TZID=Europe/Budapest:20280402T120000
DTSTAMP:20260421T115333
CREATED:20240521T154843Z
LAST-MODIFIED:20240521T154843Z
UID:10007372-1838286000-1838289600@bazilikabudapest.hu
SUMMARY:KERESZTELŐK (BAZILIKÁBAN)
DESCRIPTION:
URL:https://bazilikabudapest.hu/esemenyek/keresztelok-bazilikaban/2028-04-02/
END:VEVENT
BEGIN:VEVENT
DTSTART;TZID=Europe/Budapest:20280409T110000
DTEND;TZID=Europe/Budapest:20280409T120000
DTSTAMP:20260421T115333
CREATED:20240521T154843Z
LAST-MODIFIED:20240521T154843Z
UID:10007373-1838890800-1838894400@bazilikabudapest.hu
SUMMARY:KERESZTELŐK (BAZILIKÁBAN)
DESCRIPTION:
URL:https://bazilikabudapest.hu/esemenyek/keresztelok-bazilikaban/2028-04-09/
END:VEVENT
BEGIN:VEVENT
DTSTART;TZID=Europe/Budapest:20280416T110000
DTEND;TZID=Europe/Budapest:20280416T120000
DTSTAMP:20260421T115333
CREATED:20240521T154843Z
LAST-MODIFIED:20240521T154843Z
UID:10007374-1839495600-1839499200@bazilikabudapest.hu
SUMMARY:KERESZTELŐK (BAZILIKÁBAN)
DESCRIPTION:
URL:https://bazilikabudapest.hu/esemenyek/keresztelok-bazilikaban/2028-04-16/
END:VEVENT
BEGIN:VEVENT
DTSTART;TZID=Europe/Budapest:20280423T110000
DTEND;TZID=Europe/Budapest:20280423T120000
DTSTAMP:20260421T115333
CREATED:20240521T154843Z
LAST-MODIFIED:20240521T154843Z
UID:10007375-1840100400-1840104000@bazilikabudapest.hu
SUMMARY:KERESZTELŐK (BAZILIKÁBAN)
DESCRIPTION:
URL:https://bazilikabudapest.hu/esemenyek/keresztelok-bazilikaban/2028-04-23/
END:VEVENT
BEGIN:VEVENT
DTSTART;TZID=Europe/Budapest:20280430T110000
DTEND;TZID=Europe/Budapest:20280430T120000
DTSTAMP:20260421T115333
CREATED:20240521T154843Z
LAST-MODIFIED:20240521T154843Z
UID:10007376-1840705200-1840708800@bazilikabudapest.hu
SUMMARY:KERESZTELŐK (BAZILIKÁBAN)
DESCRIPTION:
URL:https://bazilikabudapest.hu/esemenyek/keresztelok-bazilikaban/2028-04-30/
END:VEVENT
BEGIN:VEVENT
DTSTART;TZID=Europe/Budapest:20280507T110000
DTEND;TZID=Europe/Budapest:20280507T120000
DTSTAMP:20260421T115333
CREATED:20240521T154843Z
LAST-MODIFIED:20240521T154843Z
UID:10007377-1841310000-1841313600@bazilikabudapest.hu
SUMMARY:KERESZTELŐK (BAZILIKÁBAN)
DESCRIPTION:
URL:https://bazilikabudapest.hu/esemenyek/keresztelok-bazilikaban/2028-05-07/
END:VEVENT
BEGIN:VEVENT
DTSTART;TZID=Europe/Budapest:20280514T110000
DTEND;TZID=Europe/Budapest:20280514T120000
DTSTAMP:20260421T115333
CREATED:20240521T154843Z
LAST-MODIFIED:20240521T154843Z
UID:10007378-1841914800-1841918400@bazilikabudapest.hu
SUMMARY:KERESZTELŐK (BAZILIKÁBAN)
DESCRIPTION:
URL:https://bazilikabudapest.hu/esemenyek/keresztelok-bazilikaban/2028-05-14/
END:VEVENT
BEGIN:VEVENT
DTSTART;TZID=Europe/Budapest:20280521T110000
DTEND;TZID=Europe/Budapest:20280521T120000
DTSTAMP:20260421T115333
CREATED:20240521T154843Z
LAST-MODIFIED:20240521T154843Z
UID:10007379-1842519600-1842523200@bazilikabudapest.hu
SUMMARY:KERESZTELŐK (BAZILIKÁBAN)
DESCRIPTION:
URL:https://bazilikabudapest.hu/esemenyek/keresztelok-bazilikaban/2028-05-21/
END:VEVENT
BEGIN:VEVENT
DTSTART;TZID=Europe/Budapest:20280528T110000
DTEND;TZID=Europe/Budapest:20280528T120000
DTSTAMP:20260421T115333
CREATED:20240521T154843Z
LAST-MODIFIED:20240521T154843Z
UID:10007380-1843124400-1843128000@bazilikabudapest.hu
SUMMARY:KERESZTELŐK (BAZILIKÁBAN)
DESCRIPTION:
URL:https://bazilikabudapest.hu/esemenyek/keresztelok-bazilikaban/2028-05-28/
END:VEVENT
BEGIN:VEVENT
DTSTART;TZID=Europe/Budapest:20280604T110000
DTEND;TZID=Europe/Budapest:20280604T120000
DTSTAMP:20260421T115333
CREATED:20240521T154843Z
LAST-MODIFIED:20240521T154843Z
UID:10007381-1843729200-1843732800@bazilikabudapest.hu
SUMMARY:KERESZTELŐK (BAZILIKÁBAN)
DESCRIPTION:
URL:https://bazilikabudapest.hu/esemenyek/keresztelok-bazilikaban/2028-06-04/
END:VEVENT
BEGIN:VEVENT
DTSTART;TZID=Europe/Budapest:20280611T110000
DTEND;TZID=Europe/Budapest:20280611T120000
DTSTAMP:20260421T115333
CREATED:20240521T154843Z
LAST-MODIFIED:20240521T154843Z
UID:10007382-1844334000-1844337600@bazilikabudapest.hu
SUMMARY:KERESZTELŐK (BAZILIKÁBAN)
DESCRIPTION:
URL:https://bazilikabudapest.hu/esemenyek/keresztelok-bazilikaban/2028-06-11/
END:VEVENT
BEGIN:VEVENT
DTSTART;TZID=Europe/Budapest:20280618T110000
DTEND;TZID=Europe/Budapest:20280618T120000
DTSTAMP:20260421T115333
CREATED:20240521T154843Z
LAST-MODIFIED:20240521T154843Z
UID:10007383-1844938800-1844942400@bazilikabudapest.hu
SUMMARY:KERESZTELŐK (BAZILIKÁBAN)
DESCRIPTION:
URL:https://bazilikabudapest.hu/esemenyek/keresztelok-bazilikaban/2028-06-18/
END:VEVENT
BEGIN:VEVENT
DTSTART;TZID=Europe/Budapest:20280625T110000
DTEND;TZID=Europe/Budapest:20280625T120000
DTSTAMP:20260421T115333
CREATED:20240521T154843Z
LAST-MODIFIED:20240521T154843Z
UID:10007384-1845543600-1845547200@bazilikabudapest.hu
SUMMARY:KERESZTELŐK (BAZILIKÁBAN)
DESCRIPTION:
URL:https://bazilikabudapest.hu/esemenyek/keresztelok-bazilikaban/2028-06-25/
END:VEVENT
BEGIN:VEVENT
DTSTART;TZID=Europe/Budapest:20280702T110000
DTEND;TZID=Europe/Budapest:20280702T120000
DTSTAMP:20260421T115333
CREATED:20240521T154843Z
LAST-MODIFIED:20240521T154843Z
UID:10007385-1846148400-1846152000@bazilikabudapest.hu
SUMMARY:KERESZTELŐK (BAZILIKÁBAN)
DESCRIPTION:
URL:https://bazilikabudapest.hu/esemenyek/keresztelok-bazilikaban/2028-07-02/
END:VEVENT
BEGIN:VEVENT
DTSTART;TZID=Europe/Budapest:20280709T110000
DTEND;TZID=Europe/Budapest:20280709T120000
DTSTAMP:20260421T115333
CREATED:20240521T154843Z
LAST-MODIFIED:20240521T154843Z
UID:10007386-1846753200-1846756800@bazilikabudapest.hu
SUMMARY:KERESZTELŐK (BAZILIKÁBAN)
DESCRIPTION:
URL:https://bazilikabudapest.hu/esemenyek/keresztelok-bazilikaban/2028-07-09/
END:VEVENT
BEGIN:VEVENT
DTSTART;TZID=Europe/Budapest:20280716T110000
DTEND;TZID=Europe/Budapest:20280716T120000
DTSTAMP:20260421T115333
CREATED:20240521T154843Z
LAST-MODIFIED:20240521T154843Z
UID:10007387-1847358000-1847361600@bazilikabudapest.hu
SUMMARY:KERESZTELŐK (BAZILIKÁBAN)
DESCRIPTION:
URL:https://bazilikabudapest.hu/esemenyek/keresztelok-bazilikaban/2028-07-16/
END:VEVENT
BEGIN:VEVENT
DTSTART;TZID=Europe/Budapest:20280723T110000
DTEND;TZID=Europe/Budapest:20280723T120000
DTSTAMP:20260421T115333
CREATED:20240521T154843Z
LAST-MODIFIED:20240521T154843Z
UID:10007388-1847962800-1847966400@bazilikabudapest.hu
SUMMARY:KERESZTELŐK (BAZILIKÁBAN)
DESCRIPTION:
URL:https://bazilikabudapest.hu/esemenyek/keresztelok-bazilikaban/2028-07-23/
END:VEVENT
BEGIN:VEVENT
DTSTART;TZID=Europe/Budapest:20280730T110000
DTEND;TZID=Europe/Budapest:20280730T120000
DTSTAMP:20260421T115333
CREATED:20240521T154843Z
LAST-MODIFIED:20240521T154843Z
UID:10007389-1848567600-1848571200@bazilikabudapest.hu
SUMMARY:KERESZTELŐK (BAZILIKÁBAN)
DESCRIPTION:
URL:https://bazilikabudapest.hu/esemenyek/keresztelok-bazilikaban/2028-07-30/
END:VEVENT
BEGIN:VEVENT
DTSTART;TZID=Europe/Budapest:20280806T110000
DTEND;TZID=Europe/Budapest:20280806T120000
DTSTAMP:20260421T115333
CREATED:20240521T154843Z
LAST-MODIFIED:20240521T154843Z
UID:10007390-1849172400-1849176000@bazilikabudapest.hu
SUMMARY:KERESZTELŐK (BAZILIKÁBAN)
DESCRIPTION:
URL:https://bazilikabudapest.hu/esemenyek/keresztelok-bazilikaban/2028-08-06/
END:VEVENT
BEGIN:VEVENT
DTSTART;TZID=Europe/Budapest:20280813T110000
DTEND;TZID=Europe/Budapest:20280813T120000
DTSTAMP:20260421T115333
CREATED:20240521T154843Z
LAST-MODIFIED:20240521T154843Z
UID:10007391-1849777200-1849780800@bazilikabudapest.hu
SUMMARY:KERESZTELŐK (BAZILIKÁBAN)
DESCRIPTION:
URL:https://bazilikabudapest.hu/esemenyek/keresztelok-bazilikaban/2028-08-13/
END:VEVENT
BEGIN:VEVENT
DTSTART;TZID=Europe/Budapest:20280820T110000
DTEND;TZID=Europe/Budapest:20280820T120000
DTSTAMP:20260421T115333
CREATED:20240521T154843Z
LAST-MODIFIED:20240521T154843Z
UID:10007392-1850382000-1850385600@bazilikabudapest.hu
SUMMARY:KERESZTELŐK (BAZILIKÁBAN)
DESCRIPTION:
URL:https://bazilikabudapest.hu/esemenyek/keresztelok-bazilikaban/2028-08-20/
END:VEVENT
BEGIN:VEVENT
DTSTART;TZID=Europe/Budapest:20280827T110000
DTEND;TZID=Europe/Budapest:20280827T120000
DTSTAMP:20260421T115333
CREATED:20240521T154843Z
LAST-MODIFIED:20240521T154843Z
UID:10007393-1850986800-1850990400@bazilikabudapest.hu
SUMMARY:KERESZTELŐK (BAZILIKÁBAN)
DESCRIPTION:
URL:https://bazilikabudapest.hu/esemenyek/keresztelok-bazilikaban/2028-08-27/
END:VEVENT
BEGIN:VEVENT
DTSTART;TZID=Europe/Budapest:20280903T110000
DTEND;TZID=Europe/Budapest:20280903T120000
DTSTAMP:20260421T115333
CREATED:20240521T154843Z
LAST-MODIFIED:20240521T154843Z
UID:10007394-1851591600-1851595200@bazilikabudapest.hu
SUMMARY:KERESZTELŐK (BAZILIKÁBAN)
DESCRIPTION:
URL:https://bazilikabudapest.hu/esemenyek/keresztelok-bazilikaban/2028-09-03/
END:VEVENT
BEGIN:VEVENT
DTSTART;TZID=Europe/Budapest:20280910T110000
DTEND;TZID=Europe/Budapest:20280910T120000
DTSTAMP:20260421T115333
CREATED:20240521T154843Z
LAST-MODIFIED:20240521T154843Z
UID:10007395-1852196400-1852200000@bazilikabudapest.hu
SUMMARY:KERESZTELŐK (BAZILIKÁBAN)
DESCRIPTION:
URL:https://bazilikabudapest.hu/esemenyek/keresztelok-bazilikaban/2028-09-10/
END:VEVENT
BEGIN:VEVENT
DTSTART;TZID=Europe/Budapest:20280917T110000
DTEND;TZID=Europe/Budapest:20280917T120000
DTSTAMP:20260421T115333
CREATED:20240521T154843Z
LAST-MODIFIED:20240521T154843Z
UID:10007396-1852801200-1852804800@bazilikabudapest.hu
SUMMARY:KERESZTELŐK (BAZILIKÁBAN)
DESCRIPTION:
URL:https://bazilikabudapest.hu/esemenyek/keresztelok-bazilikaban/2028-09-17/
END:VEVENT
END:VCALENDAR